BEGIN:VCALENDAR
VERSION:2.0
PRODID:-//Octubre Centre de Cultura Contemporània - ECPv5.1.6//NONSGML v1.0//EN
CALSCALE:GREGORIAN
METHOD:PUBLISH
X-WR-CALNAME:Octubre Centre de Cultura Contemporània
X-ORIGINAL-URL:https://octubre.cat
X-WR-CALDESC:Events for Octubre Centre de Cultura Contemporània
BEGIN:VTIMEZONE
TZID:Europe/Andorra
BEGIN:DAYLIGHT
TZOFFSETFROM:+0100
TZOFFSETTO:+0200
TZNAME:CEST
DTSTART:20230326T010000
END:DAYLIGHT
BEGIN:STANDARD
TZOFFSETFROM:+0200
TZOFFSETTO:+0100
TZNAME:CET
DTSTART:20231029T010000
END:STANDARD
END:VTIMEZONE
BEGIN:VEVENT
DTSTART;TZID=Europe/Andorra:20230420T190000
DTEND;TZID=Europe/Andorra:20230420T190000
DTSTAMP:20260420T102757
CREATED:20230323T094841Z
LAST-MODIFIED:20230323T114412Z
UID:19673-1682017200-1682017200@octubre.cat
SUMMARY:Estrena de Red Horn. Un musical\, d’Alberto Adsuara
DESCRIPTION:Sinopsi: Una dona vaga pel món cercant la sang que li permet sobreviure. Vol morir-se però li cal sobreviure per aconseguir-ho. Una història de vampirs basada en fets reals. Un musical on les coses succeeixen a una velocitat extemporània. \n  \n \n  \nDirecció i guió: Alberto Adsuara (2023)\nEnregistrament i edició: Samuel Navarro\nMúsica: Victoria Contreras\nTema musical «Red Horn»: Mike & Mona\nGràfica i efectes: José Valero\nSo: Jacobo Valier\nLocució: Candela Vera\, Miguel Serrano\, Alberto Adsuara\nStarring: Paula Zaragoza\nSergio H. Redondo\, Héctor Adsuara\, Antonio Soto\, Pablo Pérez \n 
URL:https://octubre.cat/activitat/estrena-de-red-horn-un-musical-dalberto-adsuara/
LOCATION:Sala d’actes
CATEGORIES:Cinema
ATTACH;FMTTYPE=image/jpeg:https://octubre.cat/www/wp-content/uploads/2023/03/red-horn-adsuara-1.jpg
END:VEVENT
END:VCALENDAR