BEGIN:VCALENDAR
VERSION:2.0
PRODID:-//Octubre Centre de Cultura Contemporània - ECPv5.1.6//NONSGML v1.0//EN
CALSCALE:GREGORIAN
METHOD:PUBLISH
X-WR-CALNAME:Octubre Centre de Cultura Contemporània
X-ORIGINAL-URL:https://octubre.cat
X-WR-CALDESC:Events for Octubre Centre de Cultura Contemporània
BEGIN:VTIMEZONE
TZID:Europe/Andorra
BEGIN:DAYLIGHT
TZOFFSETFROM:+0100
TZOFFSETTO:+0200
TZNAME:CEST
DTSTART:20200329T010000
END:DAYLIGHT
BEGIN:STANDARD
TZOFFSETFROM:+0200
TZOFFSETTO:+0100
TZNAME:CET
DTSTART:20201025T010000
END:STANDARD
END:VTIMEZONE
BEGIN:VEVENT
DTSTART;TZID=Europe/Andorra:20201029T190000
DTEND;TZID=Europe/Andorra:20201029T190000
DTSTAMP:20260423T011745
CREATED:20201004T173615Z
LAST-MODIFIED:20201006T151210Z
UID:15265-1603998000-1603998000@octubre.cat
SUMMARY:Estrena de Fuera de horas\, d’Alberto Adsuara
DESCRIPTION:Fuera de horas analitza l’home comú a partir de la pel·lícula / documental After Hours (Jó qué noche) de Martin Scorsese\, recolzant-se en altres pel·lícules com El manantial\, Terciopelo azul i Choose me. \nDirecció: Alberto Adsuara (2020)\nAmb la col·laboració de Samuel Navarro\nMúsica: Victoria Contreras\nMescla de so: Jacobo Vallier \n \nDegut a les condicions actuals d’aforament de les sales\, es realitzaran dues projeccions de la pel·lícula (una el dijous 29 d’octubre i l’altra el divendres 6 de novembre) i cal reservar la invitació a través de l’app Eventbrite. \nInvitació per a la sessió del dijous 29 d’octubre. \nInvitació per a la sessió del divendres 6 de novembre.
URL:https://octubre.cat/activitat/estrena-de-fuera-de-horas-dalberto-adsuara/
LOCATION:Sala d’actes
CATEGORIES:Cinema
ATTACH;FMTTYPE=image/jpeg:https://octubre.cat/www/wp-content/uploads/2020/10/FdH_01.jpg
END:VEVENT
END:VCALENDAR