BEGIN:VCALENDAR
VERSION:2.0
PRODID:-//Octubre Centre de Cultura Contemporània - ECPv5.1.6//NONSGML v1.0//EN
CALSCALE:GREGORIAN
METHOD:PUBLISH
X-WR-CALNAME:Octubre Centre de Cultura Contemporània
X-ORIGINAL-URL:https://octubre.cat
X-WR-CALDESC:Events for Octubre Centre de Cultura Contemporània
BEGIN:VTIMEZONE
TZID:Europe/Andorra
BEGIN:DAYLIGHT
TZOFFSETFROM:+0100
TZOFFSETTO:+0200
TZNAME:CEST
DTSTART:20080330T010000
END:DAYLIGHT
BEGIN:STANDARD
TZOFFSETFROM:+0200
TZOFFSETTO:+0100
TZNAME:CET
DTSTART:20081026T010000
END:STANDARD
END:VTIMEZONE
BEGIN:VEVENT
DTSTART;TZID=Europe/Andorra:20080102T193000
DTEND;TZID=Europe/Andorra:20080102T193000
DTSTAMP:20260420T180946
CREATED:20200730T035557Z
LAST-MODIFIED:20200730T035557Z
UID:13841-1199302200-1199302200@octubre.cat
SUMMARY:Estira i arronsa
DESCRIPTION:Dimecres 2\, 19.30h. Aquest documental ens mostra un curs escolar en un institut de secundària. Una càmera discreta és testimoni de la realitat quotidiana en l’ensenyament públic: les classes\, l’hora del pati\, la recepció d’alumnes estrangers\, l’esforç d’un professorat entossudit a educar els adolescents per a la vida… Res d’açò capta l’atenció de la premsa pero sí una agressió que es produeix fora del recinte.   \n  \n  \n\nProjecció d’ Estira i arronsa\, de Pau Fenollosa Alcaida.  Estira i arronsa ens mostra un curs escolar en un institut de secundària. Una càmera discreta és testimoni de la realitat quotidiana en l’ensenyament públic: les classes\, l’hora del pati\, la recepció d’alumnes estrangers\, l’esforç d’un professorat entossudit a educar els adolescents per a la vida… Res d’açò capta l’atenció de la premsa pero sí una agressió que es produeix fora del recinte.  Entrada lliure
URL:https://octubre.cat/activitat/estira-i-arronsa-2/
LOCATION:No definit
CATEGORIES:Cicle de Documentals
ATTACH;FMTTYPE=image/jpeg:https://octubre.cat/www/wp-content/uploads/2020/07/cinema1.jpg
END:VEVENT
END:VCALENDAR