BEGIN:VCALENDAR
VERSION:2.0
PRODID:-//Octubre Centre de Cultura Contemporània - ECPv5.1.6//NONSGML v1.0//EN
CALSCALE:GREGORIAN
METHOD:PUBLISH
X-WR-CALNAME:Octubre Centre de Cultura Contemporània
X-ORIGINAL-URL:https://octubre.cat
X-WR-CALDESC:Events for Octubre Centre de Cultura Contemporània
BEGIN:VTIMEZONE
TZID:Europe/Andorra
BEGIN:DAYLIGHT
TZOFFSETFROM:+0100
TZOFFSETTO:+0200
TZNAME:CEST
DTSTART:20090329T010000
END:DAYLIGHT
BEGIN:STANDARD
TZOFFSETFROM:+0200
TZOFFSETTO:+0100
TZNAME:CET
DTSTART:20091025T010000
END:STANDARD
END:VTIMEZONE
BEGIN:VEVENT
DTSTART;TZID=Europe/Andorra:20090301T190000
DTEND;TZID=Europe/Andorra:20090301T190000
DTSTAMP:20260422T154804
CREATED:20200729T182340Z
LAST-MODIFIED:20200729T182340Z
UID:12778-1235934000-1235934000@octubre.cat
SUMMARY:Ester Andújar Band
DESCRIPTION:Diumenge 1 de març\,  a les 19.00h:  Actuació d’Esther Andújar Band.   \n  \n  \n\nDesprés d’haver publicat dos discos de jazz (Tristeza de Amar i Celebrating Cole Porter)\, Ester Andújar es llança\, en el seu tercer àlbum Páginas Preciosas\, a cantar les seues pròpies composicions. Cançons en castellà i valencià que permeten albirar d’una manera transparent totes les seues influències musicals: des del jazz\, passant pel pop i la música brasilera\, al funk i el soul.   Acompanyada per una banda amb la qual ha recorregut ja un llarg camí\, tocarà temes escollits entre els seus tres treballs i alguna que altra sorpresa. Una feliç trobada musical que\, esperem\, tothom gaudisca.   Banda:   Ester Andújar (veu)  Ricardo Belda (piano) Lluís Llario (contrabaix) Ximo Tébar (guitarra)  Esteve Pi (Bateria) Roque Martínez (saxo)
URL:https://octubre.cat/activitat/ester-andujar-band/
LOCATION:No definit
CATEGORIES:Diumenges de Jazz!
ATTACH;FMTTYPE=image/jpeg:https://octubre.cat/www/wp-content/uploads/2020/07/activitat803.jpg
END:VEVENT
END:VCALENDAR