BEGIN:VCALENDAR
VERSION:2.0
PRODID:-//Octubre Centre de Cultura Contemporània - ECPv5.1.6//NONSGML v1.0//EN
CALSCALE:GREGORIAN
METHOD:PUBLISH
X-WR-CALNAME:Octubre Centre de Cultura Contemporània
X-ORIGINAL-URL:https://octubre.cat
X-WR-CALDESC:Events for Octubre Centre de Cultura Contemporània
BEGIN:VTIMEZONE
TZID:Europe/Andorra
BEGIN:DAYLIGHT
TZOFFSETFROM:+0100
TZOFFSETTO:+0200
TZNAME:CEST
DTSTART:20120325T010000
END:DAYLIGHT
BEGIN:STANDARD
TZOFFSETFROM:+0200
TZOFFSETTO:+0100
TZNAME:CET
DTSTART:20121028T010000
END:STANDARD
END:VTIMEZONE
BEGIN:VEVENT
DTSTART;TZID=Europe/Andorra:20120518T190000
DTEND;TZID=Europe/Andorra:20120518T190000
DTSTAMP:20260424T015845
CREATED:20200729T165738Z
LAST-MODIFIED:20200729T183840Z
UID:9362-1337367600-1337367600@octubre.cat
SUMMARY:Estació de peatge
DESCRIPTION:Divendres 18 de maig a les 19.00h: estrena a València del documental “Estació de peatge”\, sobre el camp de concentració de Mauthausen\, realitzat pel Taller d’Imatge de la Universitat d’Alacant  \n  \n  \n\nEstrena a València del documental Estació de peatge\, realitzat pel Taller d’Imatge de la Universitat d’Alacant.  Realitzat per Vicente Pascual Pascual i Luis García Verdú\, la idea original\, investigació històrica i localització de testimoniatges ha sigut duta a terme pel professor d’Història Contemporània de la UA\, Josep Miquel Santacreu Soler. Subvencionat pel Ministeri de la Presidència del Govern d’Espanya\, per a activitats relacionades amb les víctimes de la Guerra Civil i el Franquisme\, el documental se centra en els testimoniatges i vivències de dos supervivents alacantins en el camp de concentració de Mauthausen (Àustria)\, Francisco Aura Boronat (Alcoi\, 1918) i Antonio Ballesta Martínez (Albatera\, 1910).  Aquesta presentació forma part de les activitats relacionades amb l’exposició “Mauthausen. Crònica gràfica”
URL:https://octubre.cat/activitat/estacio-de-peatge/
LOCATION:No definit
CATEGORIES:Cinema
ATTACH;FMTTYPE=image/jpeg:https://octubre.cat/www/wp-content/uploads/2020/07/activitat1605.jpg
END:VEVENT
END:VCALENDAR