BEGIN:VCALENDAR
VERSION:2.0
PRODID:-//Octubre Centre de Cultura Contemporània - ECPv5.1.6//NONSGML v1.0//EN
CALSCALE:GREGORIAN
METHOD:PUBLISH
X-WR-CALNAME:Octubre Centre de Cultura Contemporània
X-ORIGINAL-URL:https://octubre.cat
X-WR-CALDESC:Events for Octubre Centre de Cultura Contemporània
BEGIN:VTIMEZONE
TZID:Europe/Andorra
BEGIN:DAYLIGHT
TZOFFSETFROM:+0100
TZOFFSETTO:+0200
TZNAME:CEST
DTSTART:20100328T010000
END:DAYLIGHT
BEGIN:STANDARD
TZOFFSETFROM:+0200
TZOFFSETTO:+0100
TZNAME:CET
DTSTART:20101031T010000
END:STANDARD
END:VTIMEZONE
BEGIN:VEVENT
DTSTART;TZID=Europe/Andorra:20100529T190000
DTEND;TZID=Europe/Andorra:20100529T190000
DTSTAMP:20260420T225050
CREATED:20200729T164736Z
LAST-MODIFIED:20200729T182809Z
UID:8736-1275159600-1275159600@octubre.cat
SUMMARY:Esquivar i pegar
DESCRIPTION:Dissabte 29 de maig\, a les 19.00h: “Esquivar i pegar”\, d’Adán Aliaga i Juanjo Giménez. Projecció i debat amb Juanjo Giménez.   \n  \n  \n\nATENCIÓ: La pel·lícula programada per aquesta data era\, en principi\, Petit Indi\, de Marc Recha\, però per motius d’agenda del director\, ha estat ajornada i en el seu lloc\, avancem la projecció i debat previstos per a juny.    Projecció i debat amb el realitzador\, Juanjo Giménez.   Fitxa tècnica Nadir Films Any 2009 Durada 90′ Direcció\, guió\, producció i fotografia: Adán Aliaga / Juanjo Giménez Muntatge: Aurora Sulli Intèrprets: Benito Eufemia  Sinopsi: El documental relata la vida del boxejador Benito Eufemia\, des dels murs de la presó al ring. Benito Eufemia entrena cada dia\, matí i vesprada en el minúscul gimnàs Ter\, al barri del Clot (Barcelona). Té 38 anys i un combat a la vista. En unes poques setmanes es batrà amb Mandy Boukaly\, un nigerià de més de 2 metres\, per tal d’escalar posicions en el rànquing espanyol dels semipesats. Per a Benito no és un combat més. Ha passat 12 anys empresonat i encara està en llibertat condicional. La boxa ho és tot.   Els realitzadors\, Adan Aliaga i Juanjo Giménez perseguien de fa temps fer una pel·lícula sobre la boxa. Tots dos havien tractat aquesta temàtica en els seus treballs anteriors. El documental barreja multitud de formats\, des de l’HDV 1080i i l’HDV 720p fins al Super 8 color\, Super 8 blanc i negre\, foto fixa i imatges d’arxiu dels anys 60 i 70\, quan la boxa disputava al futbol la seua supremacia com a esport més popular a Espanya.
URL:https://octubre.cat/activitat/esquivar-i-pegar/
LOCATION:No definit
CATEGORIES:entre la ficció i el documental,Nous realitzadors valencians
ATTACH;FMTTYPE=image/jpeg:https://octubre.cat/www/wp-content/uploads/2020/07/activitat1082.jpg
END:VEVENT
END:VCALENDAR