BEGIN:VCALENDAR
VERSION:2.0
PRODID:-//Octubre Centre de Cultura Contemporània - ECPv5.1.6//NONSGML v1.0//EN
CALSCALE:GREGORIAN
METHOD:PUBLISH
X-WR-CALNAME:Octubre Centre de Cultura Contemporània
X-ORIGINAL-URL:https://octubre.cat
X-WR-CALDESC:Events for Octubre Centre de Cultura Contemporània
BEGIN:VTIMEZONE
TZID:Europe/Andorra
BEGIN:DAYLIGHT
TZOFFSETFROM:+0100
TZOFFSETTO:+0200
TZNAME:CEST
DTSTART:20240331T010000
END:DAYLIGHT
BEGIN:STANDARD
TZOFFSETFROM:+0200
TZOFFSETTO:+0100
TZNAME:CET
DTSTART:20241027T010000
END:STANDARD
END:VTIMEZONE
BEGIN:VEVENT
DTSTART;TZID=Europe/Andorra:20240918T190000
DTEND;TZID=Europe/Andorra:20240918T190000
DTSTAMP:20260421T121812
CREATED:20240416T105100Z
LAST-MODIFIED:20250713T084137Z
UID:21174-1726686000-1726686000@octubre.cat
SUMMARY:#EspaiCiència: «Què ens fa humans»\, amb Valentín Villaverde i Juan Nácher
DESCRIPTION:Conversa amb Valentín Villaverde i Juan Nácher moderada per la periodista Reis Juan. \nValentín Villaverde\, catedràtic emèrit de prehistòria (UV) especialista en art prehistòric\, ha estat director d’una diversitat d’excavacions en territori valencià. És autor de La mirada neandertal: orígenes del arte visual (PUV 2020) \n  \n \n  \nJuan Nácher\, neurocientífic i catedràtic de biologia cel·lular (UV)\, especialista en plasticitat neuronal. Traductor del llibre de Sara Manning A una molècula de la locura. Relatos del cerbero secuestrado (PUV 2023). \n—\nL’Espai Ciència de l’Octubre CCC és una iniciativa de l’Institut d’Estudis Catalans i compta amb la col·laboració d’Acció Cultural del País Valencià\, la Unitat de Cultura Científica i Innovació / Càtedra de Divulgació de la Ciència de la UV\, la Fundació Espanyola per a la Ciència i la Tecnologia\, el Centre Superior d’Investigacions Científiques\, la llibreria Fan Set i la revista Mètode.\nAmb la col·laboració d’Edicions Bromera.
URL:https://octubre.cat/activitat/espaiciencia-que-ens-fa-humans-amb-valentin-villaverde-i-juan-nacher/
LOCATION:Aula 1
CATEGORIES:Espai Ciència
ATTACH;FMTTYPE=image/jpeg:https://octubre.cat/www/wp-content/uploads/2024/01/30anysPEG-R.jpg
END:VEVENT
END:VCALENDAR