BEGIN:VCALENDAR
VERSION:2.0
PRODID:-//Octubre Centre de Cultura Contemporània - ECPv5.1.6//NONSGML v1.0//EN
CALSCALE:GREGORIAN
METHOD:PUBLISH
X-WR-CALNAME:Octubre Centre de Cultura Contemporània
X-ORIGINAL-URL:https://octubre.cat
X-WR-CALDESC:Events for Octubre Centre de Cultura Contemporània
BEGIN:VTIMEZONE
TZID:Europe/Andorra
BEGIN:DAYLIGHT
TZOFFSETFROM:+0100
TZOFFSETTO:+0200
TZNAME:CEST
DTSTART:20120325T010000
END:DAYLIGHT
BEGIN:STANDARD
TZOFFSETFROM:+0200
TZOFFSETTO:+0100
TZNAME:CET
DTSTART:20121028T010000
END:STANDARD
END:VTIMEZONE
BEGIN:VEVENT
DTSTART;TZID=Europe/Andorra:20121025T193000
DTEND;TZID=Europe/Andorra:20121025T193000
DTSTAMP:20260421T163413
CREATED:20200729T165829Z
LAST-MODIFIED:20200729T183925Z
UID:9413-1351193400-1351193400@octubre.cat
SUMMARY:Escriptors al terrat
DESCRIPTION:Dijous 25 d’octubre a les 19.30h. Sessió amb els contacontes Carles Cano i Llorenç Giménez  \n  \n  \n\n Sessió d’Escriptors al Terrat amb Carles Cano i Llorenç Giménez  Carles Cano (València\, 1957) és escriptor\, poeta visual i contacontes. S’ha dedicat especialment a la literatura infantil i ha treballat també com a locutor i guionista a diversos espais de Canal 9\, Ràdio 9 i la cadena SER.  Llorenç Giménez (Alfafar\, 1954) és contacontes professional i s’ha dedicat també a la literatura infantil. El seu repertori\, a més de material propi\, inclou nombroses peces d’Enric Valor\, Joan Amades i Pep Coll. També col·labora a la premsa escrita i en programes infantils de televisió.  Acte organitzat per l’Associació d’Escriptors en Llengua Catalana (AELC)
URL:https://octubre.cat/activitat/escriptors-al-terrat/
LOCATION:No definit
CATEGORIES:Premis Octubre
ATTACH;FMTTYPE=image/jpeg:https://octubre.cat/www/wp-content/uploads/2020/07/activitat1660.jpg
END:VEVENT
END:VCALENDAR