BEGIN:VCALENDAR
VERSION:2.0
PRODID:-//Octubre Centre de Cultura Contemporània - ECPv5.1.6//NONSGML v1.0//EN
CALSCALE:GREGORIAN
METHOD:PUBLISH
X-WR-CALNAME:Octubre Centre de Cultura Contemporània
X-ORIGINAL-URL:https://octubre.cat
X-WR-CALDESC:Events for Octubre Centre de Cultura Contemporània
BEGIN:VTIMEZONE
TZID:Europe/Andorra
BEGIN:DAYLIGHT
TZOFFSETFROM:+0100
TZOFFSETTO:+0200
TZNAME:CEST
DTSTART:20100328T010000
END:DAYLIGHT
BEGIN:STANDARD
TZOFFSETFROM:+0200
TZOFFSETTO:+0100
TZNAME:CET
DTSTART:20101031T010000
END:STANDARD
END:VTIMEZONE
BEGIN:VEVENT
DTSTART;TZID=Europe/Andorra:20100303T193000
DTEND;TZID=Europe/Andorra:20100303T193000
DTSTAMP:20260421T082039
CREATED:20200729T164755Z
LAST-MODIFIED:20200729T182828Z
UID:8757-1267644600-1267644600@octubre.cat
SUMMARY:Escriptores al terrat
DESCRIPTION:Dimecres 3 de març a les 19.30h\, amb Carme Arnau\, Fina Cardona\, Isabel Garcia\, Isabel Robles\, M. Carmen Sáez i M. Jesús Yago  \n  \n  \n\nRecital amb motiu del 8 de març – Dia Internacional de les Dones.   Hi intervindran les poetesses:  M. Carme Arnau (Alfara del Patriarca\, 1958). El seu darrer treball publicat és En el desert dels meus ulls (2009).   Fina Cardona (València\, 1957). Finalista en dues ocasions del Premi Octubre de poesia amb Plouen pigues i Pessigolles de palmera.   Isabel Garcia Canet (Pego\, 1981). Jove poetessa avalada per dos grans poemaris: Pell de serp i Claustre.  Isabel Robles (Alhambra\, Ciutat Reial). Crítica\, traductora i poetessa. Amb L’espiral (1994) va guanyar el premi de poesia de La Forest d’Arana.   M. Carmen Sáez. Poetessa de Millares\, amb residència a Almussafes que amb l’associació Argila de l’Aire treballa per la difusió de la poesia a través dels recitals.    M. Jesús Yago (Catarroja\, 1964). D’escuma ferida (1993) i L’espill del fang (1997) són els seus llibres publicats.
URL:https://octubre.cat/activitat/escriptores-al-terrat/
LOCATION:No definit
CATEGORIES:Escriptors al terrat
ATTACH;FMTTYPE=image/jpeg:https://octubre.cat/www/wp-content/uploads/2020/07/activitat1102.jpg
END:VEVENT
END:VCALENDAR