BEGIN:VCALENDAR
VERSION:2.0
PRODID:-//Octubre Centre de Cultura Contemporània - ECPv5.1.6//NONSGML v1.0//EN
CALSCALE:GREGORIAN
METHOD:PUBLISH
X-WR-CALNAME:Octubre Centre de Cultura Contemporània
X-ORIGINAL-URL:https://octubre.cat
X-WR-CALDESC:Events for Octubre Centre de Cultura Contemporània
BEGIN:VTIMEZONE
TZID:Europe/Andorra
BEGIN:DAYLIGHT
TZOFFSETFROM:+0100
TZOFFSETTO:+0200
TZNAME:CEST
DTSTART:20110327T010000
END:DAYLIGHT
BEGIN:STANDARD
TZOFFSETFROM:+0200
TZOFFSETTO:+0100
TZNAME:CET
DTSTART:20111030T010000
END:STANDARD
END:VTIMEZONE
BEGIN:VEVENT
DTSTART;TZID=Europe/Andorra:20110303T193000
DTEND;TZID=Europe/Andorra:20110303T193000
DTSTAMP:20260420T191957
CREATED:20200729T165437Z
LAST-MODIFIED:20200730T042741Z
UID:9179-1299180600-1299180600@octubre.cat
SUMMARY:Escriptores al terrat
DESCRIPTION:Dijous 3 de març\, a les 19.30h: Recital poètic amb motiu del Dia Internacional de les Dones – 8 de març.   \n  \n  \n\nEl cicle d’Escriptors al terrat\, que habitualment té lloc el darrer dijous de cada mes\, s’avança el mes de març per a sumar-se als actes commemoratius que se celebren amb motiu del Dia Internacional de les Dones\, el 8 de març. Per a l’ocasió\, l’Associació d’Escriptors en Llengua Catalana proposa\, com ja ha fet en anys anteriors\, un recital poètic en el qual participen únicament dones. Enguany les convidades són les poetesses Christelle Enguix\, nascuda a París\, però resident a Beniarjó\, autora de diversos poemaris; Mª Josep Escrivà\, poetessa de Gandia\, reconeguda amb diversos guardons i traduïda també a diverses llengües; Maria Fullana\, nascuda a València\, es va traslladar a Galícia\, on es dedica a l’agitació cultural i política; Begonya Pozo\, que a més de poetessa\, és traductora i professora d’italià a la Universitat de València; i Pepa Úbeda\, que el passat setembre va obtenir el 33 Premi Miquel de Palol de poesia amb el poemari La meua frontera.   Coordina: Isabel Robles.                                          
URL:https://octubre.cat/activitat/escriptores-al-terrat-2/
LOCATION:No definit
CATEGORIES:Escriptors al terrat
ATTACH;FMTTYPE=image/jpeg:https://octubre.cat/www/wp-content/uploads/2020/07/activitat1403.jpg
END:VEVENT
END:VCALENDAR