BEGIN:VCALENDAR
VERSION:2.0
PRODID:-//Octubre Centre de Cultura Contemporània - ECPv5.1.6//NONSGML v1.0//EN
CALSCALE:GREGORIAN
METHOD:PUBLISH
X-WR-CALNAME:Octubre Centre de Cultura Contemporània
X-ORIGINAL-URL:https://octubre.cat
X-WR-CALDESC:Events for Octubre Centre de Cultura Contemporània
BEGIN:VTIMEZONE
TZID:Europe/Andorra
BEGIN:DAYLIGHT
TZOFFSETFROM:+0100
TZOFFSETTO:+0200
TZNAME:CEST
DTSTART:20140330T010000
END:DAYLIGHT
BEGIN:STANDARD
TZOFFSETFROM:+0200
TZOFFSETTO:+0100
TZNAME:CET
DTSTART:20141026T010000
END:STANDARD
END:VTIMEZONE
BEGIN:VEVENT
DTSTART;TZID=Europe/Andorra:20140515T193000
DTEND;TZID=Europe/Andorra:20140515T193000
DTSTAMP:20260420T232840
CREATED:20200729T170432Z
LAST-MODIFIED:20200730T041120Z
UID:9760-1400182200-1400182200@octubre.cat
SUMMARY:'Escoltar... cine' amb Joan Soler
DESCRIPTION:Dijous 15 de maig a les 19.30h. Espectacle de Joan Soler que combina la projecció de fragments cinematogràfics amb la interpretació de peces en directe. Una altra manera de veure cinema de la mà d’un dels grans del jazz valencià  \n  \n  \n\n “El so és el millor amic del director\, perquè influeix l’espectador d’una manera secreta” F.F. Coppola  Joan Soler ens ofereix en aquesta xarrada-concert\, Escoltar Cine\, el seu peculiar punt de vista (com a músic\, musicòleg i aficionat) sobre la relació de la música amb la imatge. Joan ens proposa una interessant i divertida visió de les relacions i les funcions de la música en el cine. A més\, ens mostrarà  la capacitat de la música per a adaptar-se a tot tipus de generes i situacions dramàtiques. Amb projecció d’escenes\, anècdotes\, històries i temes de pel·lícules en directe.  Joan Soler és un dels guitarristes de jazz més reconegut i respectat del panorama nacional. Pertany a la primera generació de músics de jazz que va emergir a Espanya durant els anys 80. Al llarg de la seua trajectòria professional de més de trenta anys Joan ha participat en tot tipus de projectes i formacions\, des d’orquestres simfòniques i big bands fins a concerts com a solista. Ha actuat en els més importants clubs i festivals internacionals de Jazz. Mestre i llicenciat en Història i Ciències de la Música\, Joan ha desenvolupat  paral·lelament a la seua carrera com a músic\, una intensa labor en el camp de la pedagogia musical\, gaudint d’un ampli reconeixement com a pedagog i divulgador.  Entrada: 6 euros Reserva d’entrades a través del correu joanjazzsol@gmail.com
URL:https://octubre.cat/activitat/escoltar-cine-amb-joan-soler/
CATEGORIES:Música
ATTACH;FMTTYPE=image/jpeg:https://octubre.cat/www/wp-content/uploads/2020/07/activitat2057.jpg
END:VEVENT
END:VCALENDAR