BEGIN:VCALENDAR
VERSION:2.0
PRODID:-//Octubre Centre de Cultura Contemporània - ECPv5.1.6//NONSGML v1.0//EN
CALSCALE:GREGORIAN
METHOD:PUBLISH
X-WR-CALNAME:Octubre Centre de Cultura Contemporània
X-ORIGINAL-URL:https://octubre.cat
X-WR-CALDESC:Events for Octubre Centre de Cultura Contemporània
BEGIN:VTIMEZONE
TZID:Europe/Andorra
BEGIN:DAYLIGHT
TZOFFSETFROM:+0100
TZOFFSETTO:+0200
TZNAME:CEST
DTSTART:20160327T010000
END:DAYLIGHT
BEGIN:STANDARD
TZOFFSETFROM:+0200
TZOFFSETTO:+0100
TZNAME:CET
DTSTART:20161030T010000
END:STANDARD
END:VTIMEZONE
BEGIN:VEVENT
DTSTART;TZID=Europe/Andorra:20160304T000000
DTEND;TZID=Europe/Andorra:20160404T000000
DTSTAMP:20260421T163407
CREATED:20200729T171651Z
LAST-MODIFIED:20200903T162111Z
UID:10552-1457049600-1459728000@octubre.cat
SUMMARY:'Escenes etíops'\, de Joaquim Seguí
DESCRIPTION:Fotografies de Joaquim Seguí\nTextos de Carles Fabregat \nInauguració de l’exposició i presentació del llibre: divendres 4 de març a les 19.30h. Participaran en l’acte:\n–Joaquim Seguí\, fotògraf\n–Juan Pedro Font de Mora\, llibreter i galerista (Railowsky)\n–Pep Bernadas\, editor (Altaïr)\n–Ricard Pérez\, gerent de la Fundació Balearia \n“Aquesta exposició (i el llibre que en recull el material\, publicat per Altaïr) és una selecció d’imatges al voltant de la gent i de la naturalesa d’Etiòpia que\, a manera de fotogrames\, ens van desvetllant històries: personatges i situacions l’objectiu de les quals es apropar-se a una visió de la gran diversitat d’aquest vast territori\, al qual conflueix l’essència d’Àfrica. Moltes d’aquestes ‘Escenes’ reflecteixen l’extrema duresa del continent negre\, en contrast amb l’hospitalitat\, generositat i alegria de les seves gents\, i la bellesa dels seus paisatges i fenòmens naturals. Els primers plànols d’homes\, dones i nens\, la seva noblesa simple i nua\, les seves mirades de vegades ingènues o de sorpresa\, finalment molts d´ells amb un somriure als llavis\, ens fan còmplices i ens esclavitzen alhora. Sóc responsable d’aquestes imatges els protagonistes de les quals\, nascuts en la foscor\, tan invisibles com imprescindibles\, ens eviten el més mínim pòsit d’amargor\, però mai ens deixen impassibles. Les 42 fotos d’Escenes etíops van acompanyades d’escrits poètics de Carles Fabregat i traduïts a l’anglès pel poeta Ben Clark. Gràcies Carles\, gràcies Ben. Tot aquest treball és inimaginable sense l’assistència dels meus amics etíops Mathews i Mekdim tant per a la logística com el disseny de rutes i localitzacions. Agraeixo la seva discreció i la seva saviesa.” Joaquim Seguí \nExposició organitzada per l’Octubre CCC i patrocinada per Fundació Baleària. Amb la col·laboració de Llibreria Galeria Railowsky.
URL:https://octubre.cat/activitat/escenes-etiops/
LOCATION:Sala d’exposicions
CATEGORIES:Exposicions
ATTACH;FMTTYPE=image/jpeg:https://octubre.cat/www/wp-content/uploads/2020/07/activitat2523.jpg
END:VEVENT
END:VCALENDAR