BEGIN:VCALENDAR
VERSION:2.0
PRODID:-//Octubre Centre de Cultura Contemporània - ECPv5.1.6//NONSGML v1.0//EN
CALSCALE:GREGORIAN
METHOD:PUBLISH
X-WR-CALNAME:Octubre Centre de Cultura Contemporània
X-ORIGINAL-URL:https://octubre.cat
X-WR-CALDESC:Events for Octubre Centre de Cultura Contemporània
BEGIN:VTIMEZONE
TZID:Europe/Andorra
BEGIN:DAYLIGHT
TZOFFSETFROM:+0100
TZOFFSETTO:+0200
TZNAME:CEST
DTSTART:20100328T010000
END:DAYLIGHT
BEGIN:STANDARD
TZOFFSETFROM:+0200
TZOFFSETTO:+0100
TZNAME:CET
DTSTART:20101031T010000
END:STANDARD
END:VTIMEZONE
BEGIN:VEVENT
DTSTART;TZID=Europe/Andorra:20101209T193000
DTEND;TZID=Europe/Andorra:20101209T193000
DTSTAMP:20260420T192111
CREATED:20200729T165256Z
LAST-MODIFIED:20200730T042644Z
UID:9077-1291923000-1291923000@octubre.cat
SUMMARY:És l'AVE el tren que necessitem?
DESCRIPTION:Dijous 9 de desembre a les 19.30h: “És l’AVE el tren que necessitem?”\, a càrrec de la plataforma per un Ferrocarril Públic\, Social i Sostenible  \n  \n  \n\nTaula rodona amb: –Luís Cerrillo (Ecologistes en Acció) –José García Polo (Sindicat Ferroviari) –Antonio López (València en Bici) –Vicent Torres (professor de la UPV)  Presentada per Paco Sanz Organitzada per la Plataforma per un Ferrocarril Públic\, Social i Sostenible
URL:https://octubre.cat/activitat/es-lave-el-tren-que-necessitem/
LOCATION:No definit
CATEGORIES:Conferències i congressos
ATTACH;FMTTYPE=image/jpeg:https://octubre.cat/www/wp-content/uploads/2020/07/conferencia1.jpg
END:VEVENT
END:VCALENDAR