BEGIN:VCALENDAR
VERSION:2.0
PRODID:-//Octubre Centre de Cultura Contemporània - ECPv5.1.6//NONSGML v1.0//EN
CALSCALE:GREGORIAN
METHOD:PUBLISH
X-WR-CALNAME:Octubre Centre de Cultura Contemporània
X-ORIGINAL-URL:https://octubre.cat
X-WR-CALDESC:Events for Octubre Centre de Cultura Contemporània
BEGIN:VTIMEZONE
TZID:Europe/Andorra
BEGIN:DAYLIGHT
TZOFFSETFROM:+0100
TZOFFSETTO:+0200
TZNAME:CEST
DTSTART:20110327T010000
END:DAYLIGHT
BEGIN:STANDARD
TZOFFSETFROM:+0200
TZOFFSETTO:+0100
TZNAME:CET
DTSTART:20111030T010000
END:STANDARD
END:VTIMEZONE
BEGIN:VEVENT
DTSTART;TZID=Europe/Andorra:20111110T193000
DTEND;TZID=Europe/Andorra:20111110T193000
DTSTAMP:20260422T032859
CREATED:20200729T165610Z
LAST-MODIFIED:20200730T042852Z
UID:9273-1320953400-1320953400@octubre.cat
SUMMARY:Es busca contingència\, viva o morta. Recompensa: 5.000 dòlars de sentit de l’existència
DESCRIPTION:Dijous 10 de novembre a les 19.30h: conferència “Es busca contingència\, viva o morta. Recompensa: 5.000 dòlars de sentit de l’existència”\, a càrrec d’Isaac González  \n  \n  \n\nPer Isaac González  La voluntat d’aquesta conferència és la reflexionar sobre el paper que adquireix la contingència –allò efímer i incontrolable\, fugaç i inaprehensible; l’esdeveniment singular que ens espera per sorprendre’ns rere qualsevol cantonada- en el món contemporani i\, especialment\, en els vincles personals mediats per tecnologies digitals. S’hi defensa la idea que\, actualment\, travem una relació esquizofrènica amb la contingència. D’una banda\, se la defuig més que mai\, identificant-la com a font de malestars i riscos incontrolables. L’actual obsessió analgèsica i asseguradora exemplifica l’esforç per exorcitzar-la\, esdevenint els mecanismes edulcorats i temerosos\, propis del que s’ha vingut a dir societat del risc\, de la funció tradicionalment assignada als mites. De l’altra\, esdevé objecte de culte i veneració secularitzada\, eix motriu d’una existència percebuda com a autèntica\, vitalista\, no anquilosada pel pes de la quotidianitat i les rutines. Davant d’aquesta situació\, les noves tecnologies permeten la quadratura del cercle en l’escenificació existencial dels subjectes: la trobada impossible dels dos anhels contraposats de fugida i atracció per la contingència.
URL:https://octubre.cat/activitat/es-busca-contingencia-viva-o-morta-recompensa-5-000-dolars-de-sentit-de-lexistencia/
LOCATION:No definit
CATEGORIES:Domesticant les tecnologies digitals
ATTACH;FMTTYPE=image/jpeg:https://octubre.cat/www/wp-content/uploads/2020/07/conferencia1.jpg
END:VEVENT
END:VCALENDAR