BEGIN:VCALENDAR
VERSION:2.0
PRODID:-//Octubre Centre de Cultura Contemporània - ECPv5.1.6//NONSGML v1.0//EN
CALSCALE:GREGORIAN
METHOD:PUBLISH
X-WR-CALNAME:Octubre Centre de Cultura Contemporània
X-ORIGINAL-URL:https://octubre.cat
X-WR-CALDESC:Events for Octubre Centre de Cultura Contemporània
BEGIN:VTIMEZONE
TZID:Europe/Andorra
BEGIN:DAYLIGHT
TZOFFSETFROM:+0100
TZOFFSETTO:+0200
TZNAME:CEST
DTSTART:20160327T010000
END:DAYLIGHT
BEGIN:STANDARD
TZOFFSETFROM:+0200
TZOFFSETTO:+0100
TZNAME:CET
DTSTART:20161030T010000
END:STANDARD
END:VTIMEZONE
BEGIN:VEVENT
DTSTART;TZID=Europe/Andorra:20160226T193000
DTEND;TZID=Europe/Andorra:20160226T193000
DTSTAMP:20260421T214035
CREATED:20200729T171618Z
LAST-MODIFIED:20200729T185411Z
UID:10515-1456515000-1456515000@octubre.cat
SUMMARY:'Error fatal'\, d'Alberto Adsuara
DESCRIPTION:Divendres 26 de febrer a les 19.30h. Única representació. Entrades a 5€.  \n  \n  \n\n A partir de la lletra d’una cançó\, dues germanes siameses inicien una conversa inesperada. A una d’elles li queden alguns dubtes que comencen a turmentar totes dues. Els principis ètics que van ser la base de l’organització clandestina que elles dirigeixen comencen a posar-se en dubte quan descobreixen la possible traïció d’una de les seues empleades. Amb només un error pot enfonsar-se tot el sistema.  —  Direcció: Alberto Adsuara Actors: Candela Vera\, Andrea Jara i Iván Cervera Guitarres: Jordi Ciscar i Juan Fernández  Vídeo Direcció: Alberto Adsuara Actriu: Elena Climent Edició: Manuel Ibáñez i Samuel Navarro Música: Victoria Contreras  V.O. en castellà Única representació Les entrades es posaran a la venda una hora abans de la representació. Preu: 5€.
URL:https://octubre.cat/activitat/error-fatal-dalberto-adsuara/
CATEGORIES:Teatre
ATTACH;FMTTYPE=image/jpeg:https://octubre.cat/www/wp-content/uploads/2020/07/activitat2505.jpg
END:VEVENT
END:VCALENDAR