BEGIN:VCALENDAR
VERSION:2.0
PRODID:-//Octubre Centre de Cultura Contemporània - ECPv5.1.6//NONSGML v1.0//EN
CALSCALE:GREGORIAN
METHOD:PUBLISH
X-WR-CALNAME:Octubre Centre de Cultura Contemporània
X-ORIGINAL-URL:https://octubre.cat
X-WR-CALDESC:Events for Octubre Centre de Cultura Contemporània
BEGIN:VTIMEZONE
TZID:Europe/Andorra
BEGIN:DAYLIGHT
TZOFFSETFROM:+0100
TZOFFSETTO:+0200
TZNAME:CEST
DTSTART:20110327T010000
END:DAYLIGHT
BEGIN:STANDARD
TZOFFSETFROM:+0200
TZOFFSETTO:+0100
TZNAME:CET
DTSTART:20111030T010000
END:STANDARD
END:VTIMEZONE
BEGIN:VEVENT
DTSTART;TZID=Europe/Andorra:20110121T203000
DTEND;TZID=Europe/Andorra:20110121T203000
DTSTAMP:20260420T114603
CREATED:20200729T165345Z
LAST-MODIFIED:20200730T042703Z
UID:9125-1295641800-1295641800@octubre.cat
SUMMARY:ERROR A.V.
DESCRIPTION:Divendres 21 de gener\, a les 20.30h: ERROR A.V. (Vj Calpurnio + Dj Sr. Imbécil).   \n  \n  \n\nERROR A.V són VJ Calpurnio i DJ Sr. Imbécil.   Una experiència audiovisual intensa a la vora del CAOS\, en la frontera en què la PSIQUEDÈLIA\, la CIÈNCIA ELECTRÒNICA i la RAÓ es barregen entre elles. Un show de 60 minuts. Fins a tres pantalles independents. Des del minimalisme electrònic més radical a la psiquedèlia més delirant.  Calpurnio és dibuixant de còmics\, il·lustrador\, guionista i realitzador de dibuixos animats. Conegut sobretot pel personatge Cuttlas\, el 1997 va començar la seua activitat com a videojòquei sota el nom d’ERRORvideo\, dedicant-se a crear treballs de vídeo basats en imatges en general abstractes\, amb una forta influència de l’animació tradicional.   Sr. Imbécil crea atmosferes denses\, complexitat sonora\, electro-noise brillant. De la seua taula brollen intensitat i minimalisme a parts iguals. Des de la tape music fins als sons digitals més retorçuts\, amb influències que abasten des de Xenakis o Stockhausen fins a Kraftwerk o Merzbow\, el Sr. Imbécil acompanya les impactants imatges d’ERRORvideo amb una trepidant sessió que recorre de manera dinàmica i des de la seua gènesi\, el costat més experimental i marginal de la música composta i produïda amb impulsos electrònics.
URL:https://octubre.cat/activitat/error-a-v/
LOCATION:No definit
CATEGORIES:Cicle S0N1V1S10
ATTACH;FMTTYPE=image/jpeg:https://octubre.cat/www/wp-content/uploads/2020/07/activitat1352.jpg
END:VEVENT
END:VCALENDAR