BEGIN:VCALENDAR
VERSION:2.0
PRODID:-//Octubre Centre de Cultura Contemporània - ECPv5.1.6//NONSGML v1.0//EN
CALSCALE:GREGORIAN
METHOD:PUBLISH
X-WR-CALNAME:Octubre Centre de Cultura Contemporània
X-ORIGINAL-URL:https://octubre.cat
X-WR-CALDESC:Events for Octubre Centre de Cultura Contemporània
BEGIN:VTIMEZONE
TZID:Europe/Andorra
BEGIN:DAYLIGHT
TZOFFSETFROM:+0100
TZOFFSETTO:+0200
TZNAME:CEST
DTSTART:20090329T010000
END:DAYLIGHT
BEGIN:STANDARD
TZOFFSETFROM:+0200
TZOFFSETTO:+0100
TZNAME:CET
DTSTART:20091025T010000
END:STANDARD
END:VTIMEZONE
BEGIN:VEVENT
DTSTART;TZID=Europe/Andorra:20090203T200000
DTEND;TZID=Europe/Andorra:20090203T200000
DTSTAMP:20260420T192057
CREATED:20200729T182305Z
LAST-MODIFIED:20200729T182305Z
UID:12746-1233691200-1233691200@octubre.cat
SUMMARY:eRikm (França)
DESCRIPTION:Dimarts 3 de febrer\, a les 20.00h:  eRikm (França)  \n  \n  \n\nDes de 1992\, eRikm\, amb base a Marsella\, ha ampliat el camp d’experimentació artística en l’escena internacional.   Tot mantenint una fusió constant entre pensament\, instint i sensibilitat\, persegueix una simultaneïtat de pràctiques (live electronic\, real time digital processing\, manipulació de discos i Cds\, etc.) i dirigeix la interacció entre diversos modes compositius\, utilitzant tots els llenguatges al seu abast.   Les seues primeres passes en el món de la música les va fer de la mà d’una guitarra que aviat bescanviaria per les andròmines electròniques i els giradiscos. Cap al 1996\, ja reconegut com a virtuós turntablista i artista sonor\, eRikm començà a nodrir un hàbit de llarga durada\, que encara avui conserva\, i que no és altre que el de creuar tots els territoris i sistemes considerats tant “independents” com “institucionals”.   Alhora ha conreat un gust obert i inspirat cap a la tecnologia mass media\, en tant que  mitjà per elaborar un nou model econòmic i eina adreçada a la creació\, producció i difusió del producte.    eRikm treballa amb el so com si fóra un organisme viu\, en evolució constant\, sempre en risc de sofrir accidents… La combinació de totes aquestes contradiccions –lògica i sensació\, serietat i farsa\, anticipació i instint– en les seues improvisacions li permet assolir noves cotes d’intensitat.   En el seu treball apareixen elements tant íntims com polítics\, de cultura tan popular com elitista\, però sense un posicionament clar. Més aviat crea un curtcircuit en les connexions existents dins del seu material generat (i degenerat) en directe\, tot presentant múltiples maneres de capturar cada moment del present.   Al llarg de la seua carrera\, ha col·laborat amb artistes com Luc Ferrari\, Christian Marclay\, Akosh S.\, FM Einheit (Einsturzende Neubauten)\, Voice Crack Martin Tetrault\, Jérôme Noetinger… Des de 1997\, sol o amb col·laboradors\, eRikm ha fet   diverses gires internacionals i ha realitzat projectes per a cine\, vídeo\, instal·lacions i ràdio en festivals i centres d’art. Ha editat un grapat de Cds en destacats segells internacionals i ha elaborat treballs audiovisuals que afegeixen una nova visió\, singular i caleidoscòpica\, al seu treball.
URL:https://octubre.cat/activitat/erikm-franca/
LOCATION:No definit
CATEGORIES:Vibra
ATTACH;FMTTYPE=image/jpeg:https://octubre.cat/www/wp-content/uploads/2020/07/activitat771.jpg
END:VEVENT
END:VCALENDAR