BEGIN:VCALENDAR
VERSION:2.0
PRODID:-//Octubre Centre de Cultura Contemporània - ECPv5.1.6//NONSGML v1.0//EN
CALSCALE:GREGORIAN
METHOD:PUBLISH
X-WR-CALNAME:Octubre Centre de Cultura Contemporània
X-ORIGINAL-URL:https://octubre.cat
X-WR-CALDESC:Events for Octubre Centre de Cultura Contemporània
BEGIN:VTIMEZONE
TZID:Europe/Andorra
BEGIN:DAYLIGHT
TZOFFSETFROM:+0100
TZOFFSETTO:+0200
TZNAME:CEST
DTSTART:20100328T010000
END:DAYLIGHT
BEGIN:STANDARD
TZOFFSETFROM:+0200
TZOFFSETTO:+0100
TZNAME:CET
DTSTART:20101031T010000
END:STANDARD
END:VTIMEZONE
BEGIN:VEVENT
DTSTART;TZID=Europe/Andorra:20100621T190000
DTEND;TZID=Europe/Andorra:20100621T190000
DTSTAMP:20260420T182726
CREATED:20200729T164951Z
LAST-MODIFIED:20200730T042521Z
UID:8870-1277146800-1277146800@octubre.cat
SUMMARY:Enric Tàrrega. L'amant de la ciutat somniada
DESCRIPTION:Dilluns 21 de juny\, a les 19.00h: Presentació del llibre “Enric Tàrrega. L’amant de la ciutat somniada”\, amb les intervencions d’Enric Tàrrega i els autors. Presenta: Eliseu Climent\, president d’ACPV.   \n  \n  \n\nPresentació del llibre Enric Tàrrega. L’amant de la ciutat somniada   Amb la intervenció d’Enric Tàrrega i la participació de Joanvi Cubedo\, editor\, i dels autors Josep Manuel Gil i M. Carme Saéz. Presentarà l’acte: Eliseu Climent\, president d’ACPV.    Enric Tàrrega. L’amant de la ciutat somniada J. V. Cubedo\, M.C. Sáez\, J. M. Gil\, eds.  Enric Tàrrega Andrés (València\, 1936)\, dedicat professionalment a la distribució de llibres en català\, ha estat de sempre un incansable activista cultural del valencianisme. Va ser membre de Lo Rat Penat als seus inicis\, promotor dels Aplecs Nacionalistes i de la Marxa a Peu al Puig\, del Premi d’Assaig Joan Fuster i de la Societat Coral El Micalet\, entre altres iniciatives. Ha participat també en diverses formacions polítiques de l’esquerra valenciana. La seua trajectòria cívica\, la passió pel seu país i el seu tarannà personal l’han fet mereixedor de diversos reconeixements públics\, com ara el Premi Vicent Ventura (2006). En aquestes converses\, passejant per la ciutat i fent parlar els amics\, repassem amb Enric la seua trajectòria personal i cívica tot conservant la vivesa de la narració oral d’un personatge clau\, irrepetible i\, en definitiva\, una institució de la nostra història.  
URL:https://octubre.cat/activitat/enric-tarrega-lamant-de-la-ciutat-somniada/
LOCATION:No definit
CATEGORIES:Literatura
ATTACH;FMTTYPE=image/jpeg:https://octubre.cat/www/wp-content/uploads/2020/07/activitat1219.jpg
END:VEVENT
END:VCALENDAR