BEGIN:VCALENDAR
VERSION:2.0
PRODID:-//Octubre Centre de Cultura Contemporània - ECPv5.1.6//NONSGML v1.0//EN
CALSCALE:GREGORIAN
METHOD:PUBLISH
X-WR-CALNAME:Octubre Centre de Cultura Contemporània
X-ORIGINAL-URL:https://octubre.cat
X-WR-CALDESC:Events for Octubre Centre de Cultura Contemporània
BEGIN:VTIMEZONE
TZID:Europe/Andorra
BEGIN:DAYLIGHT
TZOFFSETFROM:+0100
TZOFFSETTO:+0200
TZNAME:CEST
DTSTART:20140330T010000
END:DAYLIGHT
BEGIN:STANDARD
TZOFFSETFROM:+0200
TZOFFSETTO:+0100
TZNAME:CET
DTSTART:20141026T010000
END:STANDARD
END:VTIMEZONE
BEGIN:VEVENT
DTSTART;TZID=Europe/Andorra:20140130T193000
DTEND;TZID=Europe/Andorra:20140130T193000
DTSTAMP:20260422T050146
CREATED:20200729T170254Z
LAST-MODIFIED:20200729T184311Z
UID:9665-1391110200-1391110200@octubre.cat
SUMMARY:Enric Lluch i Joan Carles Martí
DESCRIPTION:Dijous 30 de gener a les 19.30h\, amb Enric Lluch i Joan Carles Martí Casanova. Amb la col·laboració de l’AELC  \n  \n  \n\n Enric Lluch i Girbés Nascut a Algemesí (Ribera Alta) el gener de 1949\, és un escriptor dedicat\, bàsicament\, a la literatura infantil i juvenil. És llicenciat en Història. Pertany a l’AELC\, al PEN Club i és el secretari de la Fundació Bromera per al Foment de la Lectura. Ha col·laborat en l’edició de llibres de text per a nombroses editorials d’àmbit estatal. És un autor que s’ha obert camí en el món de la literatura infantil i juvenil. A Catalunya i al País Valencià és molt conegut. Participa sovint en xerrades per a escolars com a escriptor\, comentant els seus llibres i canviant impressions amb els seus lectors. La seua obra ha estat traduïda a l’anglés\, francés\, portugués\, xinés\, japonés\, polonés\, grec\, irlandés\, a totes les llengües de l’Estat i ha estat transcrit al sistema Braille.  Joan Carles Martí Casanova (Marsella\, Occitània\, 1958) de pare d’Elx i de mare d’Oriola i de família profundament arrelada a la comarca del Camp d’Elx. Amb estudis lingüístics i turístics\, actualment és cap del Servei de Turisme de l’Ajuntament de Guardamar. Fou el president fundacional de l’associació per la llengua i director de la revista de normalització lingüística El Tempir (1993-2008). Ha publicat en premsa i en revistes especialitzades: sociolingüística\, dialectologia\, traducció\, turisme\, poesia\, literatura\, crítica literària i nacionalisme. Ha publicat els llibres següents: La transmissió de la llengua catalana al País Valencià: anàlisi dels censos lingüístics de 1986 a 2001 (2003); L’ús interpersonal del català entre el professorat d’Elx-Vinalopó i de l’Alacantí el curs 2008-2009 (2010). Des del Rovellet de l’ou d’Elx\, (2011). Els països del tallamar és la seua primera novel·la i ha tingut  un èxit notable\, tant de crítica com de públic\, des del seu llançament el 15 de setembre de 2013.  Activitat realitzada en col·laboració amb l’AELC
URL:https://octubre.cat/activitat/enric-lluch-i-joan-carles-marti/
LOCATION:Àtic
CATEGORIES:Escriptors al terrat
ATTACH;FMTTYPE=image/jpeg:https://octubre.cat/www/wp-content/uploads/2020/07/activitat1956.jpg
END:VEVENT
END:VCALENDAR