BEGIN:VCALENDAR
VERSION:2.0
PRODID:-//Octubre Centre de Cultura Contemporània - ECPv5.1.6//NONSGML v1.0//EN
CALSCALE:GREGORIAN
METHOD:PUBLISH
X-WR-CALNAME:Octubre Centre de Cultura Contemporània
X-ORIGINAL-URL:https://octubre.cat
X-WR-CALDESC:Events for Octubre Centre de Cultura Contemporània
BEGIN:VTIMEZONE
TZID:Europe/Andorra
BEGIN:DAYLIGHT
TZOFFSETFROM:+0100
TZOFFSETTO:+0200
TZNAME:CEST
DTSTART:20200329T010000
END:DAYLIGHT
BEGIN:STANDARD
TZOFFSETFROM:+0200
TZOFFSETTO:+0100
TZNAME:CET
DTSTART:20201025T010000
END:STANDARD
END:VTIMEZONE
BEGIN:VEVENT
DTSTART;TZID=Europe/Andorra:20201016T183000
DTEND;TZID=Europe/Andorra:20201016T183000
DTSTAMP:20260423T103149
CREATED:20200927T152343Z
LAST-MODIFIED:20201010T161142Z
UID:15210-1602873000-1602873000@octubre.cat
SUMMARY:Encontre d’Escriptors del Mediterrani
DESCRIPTION:Mostra Viva del Mediterrani 2020 \n–18.30h\n“El miracle literari en temps de pandèmia” \nManuel Baixauli és un dels novel·listes més llegits i reconeguts per la crítica del panorama valencià actual. Autor d’obres com L’home manuscrit\, La cinquena planta o Ignot\, l’escriptor de Sueca s’ha situat com una de les propostes més interessants de la novel·lística de les darreres dècades. \nSebastià Alzamora. Poeta\, escriptor i periodista mallorquí reconegut en les tres vessants\, acaba de publicar Reis del món. Alzamora és un dels autors més solvents i considerats de la seua generació\, la qual cosa li ha valgut el reconeixement dels premis més importants en la nostra literatura\, tant en el camp novel·lístic com poètic. \nModera: Josep Piera. \n  \n–19.30h\n“Tres donasses: Simone de Beauvoir\, Maria Aurèlia Capmany i Carmelina Sánchez-Cutillas”.\nTres reconegudes especialistes conversaran al voltant de les figures d’aquestes tres escriptores que\, nascudes en diferents territoris i realitats\, ens van deixar alguns dels testimoniatges literaris i ètics més importants del nostre temps. \nMarta Nadal\, Comissària de l’Any Capmany i una de les estudioses i crítiques més respectades de la nostra literatura\, autora d’obres com De foc i de seda. Àlbum biogràfic de Mercè Rodoreda. \nMarta Pessarrodona. Poeta\, assagista i traductora\, una de les intel·lectuals més reconegudes del nostre temps\, va ser reconeguda l’any passat amb el Premi d’Honor de les Lletres Catalanes. \nVerònica Cantó. Editora i filòloga\, especialista en l’obra de Carmelina Sánchez-Cutillas\, actualment és la secretària de l’Acadèmia Valenciana de la Llengua. Ha estat autora de diverses obres sobre l’ús de la llengua\, i el seu estudi en aquest camp va ser reconegut amb el Premi Joan Valls per l’ús i la promoció del valencià. \nModera: Lourdes Toledo. \nOrganització: Mostra Viva del Mediterrani amb la col·laboració de l’Octubre CCCC.
URL:https://octubre.cat/activitat/encontre-descriptors-del-mediterrani/
LOCATION:Aula 1
CATEGORIES:Literatura,Mostra Viva 2020
ATTACH;FMTTYPE=image/jpeg:https://octubre.cat/www/wp-content/uploads/2020/07/mostra-viva.jpg
END:VEVENT
END:VCALENDAR