BEGIN:VCALENDAR
VERSION:2.0
PRODID:-//Octubre Centre de Cultura Contemporània - ECPv5.1.6//NONSGML v1.0//EN
CALSCALE:GREGORIAN
METHOD:PUBLISH
X-WR-CALNAME:Octubre Centre de Cultura Contemporània
X-ORIGINAL-URL:https://octubre.cat
X-WR-CALDESC:Events for Octubre Centre de Cultura Contemporània
BEGIN:VTIMEZONE
TZID:Europe/Andorra
BEGIN:DAYLIGHT
TZOFFSETFROM:+0100
TZOFFSETTO:+0200
TZNAME:CEST
DTSTART:20070325T010000
END:DAYLIGHT
BEGIN:STANDARD
TZOFFSETFROM:+0200
TZOFFSETTO:+0100
TZNAME:CET
DTSTART:20071028T010000
END:STANDARD
END:VTIMEZONE
BEGIN:VEVENT
DTSTART;TZID=Europe/Andorra:20070202T000000
DTEND;TZID=Europe/Andorra:20070202T000000
DTSTAMP:20260420T180944
CREATED:20260104T164514Z
LAST-MODIFIED:20260104T164514Z
UID:24503-1170374400-1170374400@octubre.cat
SUMMARY:Encontre de professors de secundària
DESCRIPTION:–Conferència “L’educació\, reptes i compromisos” a càrrec de Rafa Xambó\, professor titular de Sociologia de la Universitat de València. Membre de la Societat Catalana de Comunicació de l’IEC. \n–Conferència “Compromisos cívics i normalitat” a càrrec de Ferran Suay\, doctor en Psicologia i professor titular de Psicobiologia de la Universitat de València \n–Debat obert “La formació cívica del jovent. Testimonis de professors compromesos cívicament” \n–“A ritme de compromís: justificacions i solfa”\, a càrrec d’Eva Dénia\, cantant de textos\, no únicament de melodies.
URL:https://octubre.cat/activitat/encontre-de-professors-de-secundaria/
LOCATION:No definit
CATEGORIES:Conferències i congressos
ATTACH;FMTTYPE=image/jpeg:https://octubre.cat/www/wp-content/uploads/2020/07/conferencia1.jpg
END:VEVENT
END:VCALENDAR