BEGIN:VCALENDAR
VERSION:2.0
PRODID:-//Octubre Centre de Cultura Contemporània - ECPv5.1.6//NONSGML v1.0//EN
CALSCALE:GREGORIAN
METHOD:PUBLISH
X-WR-CALNAME:Octubre Centre de Cultura Contemporània
X-ORIGINAL-URL:https://octubre.cat
X-WR-CALDESC:Events for Octubre Centre de Cultura Contemporània
BEGIN:VTIMEZONE
TZID:Europe/Andorra
BEGIN:DAYLIGHT
TZOFFSETFROM:+0100
TZOFFSETTO:+0200
TZNAME:CEST
DTSTART:20080330T010000
END:DAYLIGHT
BEGIN:STANDARD
TZOFFSETFROM:+0200
TZOFFSETTO:+0100
TZNAME:CET
DTSTART:20081026T010000
END:STANDARD
END:VTIMEZONE
BEGIN:VEVENT
DTSTART;TZID=Europe/Andorra:20080224T190000
DTEND;TZID=Europe/Andorra:20080224T190000
DTSTAMP:20260422T223832
CREATED:20200729T181719Z
LAST-MODIFIED:20200730T035623Z
UID:12482-1203879600-1203879600@octubre.cat
SUMMARY:Enclave Latin Jazz
DESCRIPTION:Diumenge 24\, 19.00h. Des de la seua formació\, aquests valencians han actuat a nombrosos clubs i festivals\, entre els quals podem destacar Calle 54 (Madrid)\, Jazz Além Tejo (Portugal)\, Festival de Jazz del Palau de la Música (València)\, Festival de Jazz de l’IVAM (València)\, Festival de Jazz ABBA+e2 (València)\, etc.  \n  \n  \n\nDes de la seua formació\, aquests valencians han actuat a nombrosos clubs i festivals\, entre els quals podem destacar Calle 54 (Madrid)\, Jazz Além Tejo (Portugal)\, Festival de Jazz del Palau de la Música (València)\, Festival de Jazz de l’IVAM (València)\, Festival de Jazz ABBA+e2 (València)\, etc.
URL:https://octubre.cat/activitat/enclave-latin-jazz/
LOCATION:No definit
CATEGORIES:Diumenges de Jazz!
ATTACH;FMTTYPE=image/jpeg:https://octubre.cat/www/wp-content/uploads/2020/07/musica1.jpg
END:VEVENT
END:VCALENDAR