BEGIN:VCALENDAR
VERSION:2.0
PRODID:-//Octubre Centre de Cultura Contemporània - ECPv5.1.6//NONSGML v1.0//EN
CALSCALE:GREGORIAN
METHOD:PUBLISH
X-WR-CALNAME:Octubre Centre de Cultura Contemporània
X-ORIGINAL-URL:https://octubre.cat
X-WR-CALDESC:Events for Octubre Centre de Cultura Contemporània
BEGIN:VTIMEZONE
TZID:Europe/Andorra
BEGIN:DAYLIGHT
TZOFFSETFROM:+0100
TZOFFSETTO:+0200
TZNAME:CEST
DTSTART:20220327T010000
END:DAYLIGHT
BEGIN:STANDARD
TZOFFSETFROM:+0200
TZOFFSETTO:+0100
TZNAME:CET
DTSTART:20221030T010000
END:STANDARD
END:VTIMEZONE
BEGIN:VEVENT
DTSTART;TZID=Europe/Andorra:20221028T190000
DTEND;TZID=Europe/Andorra:20221028T190000
DTSTAMP:20260421T150001
CREATED:20221011T151135Z
LAST-MODIFIED:20250629T103515Z
UID:18860-1666983600-1666983600@octubre.cat
SUMMARY:En les arrels\, Fuster
DESCRIPTION:Homenatge literari i musical a Joan Fuster \nEn les arrels\, Fuster és un espectacle de petit format articulat amb motiu del centenari del naixement de Joan Fuster que pretén recuperar un seguit de textos breus i aforismes sobre la tradició\, la llengua i el país i portar-les a escena d’una manera sòbria però atractiva en tant que la proposta mescla text recitat i la música cantada. A tot plegat\, hi sumem com a fil conductor sonor el timbre dels instruments d’arrel\, molt especialment la dolçaina però també la tenora i les bases electròniques.\nAmb:\n—Lluís Roda\, poeta · selecció de textos i recitació\n—La Maria · veu i guitarra\n—Joan Díaz · composició i teclat\n—Pau Puig · dolçaina\n—Manu Sabaté · clarinets i tenora \n \n—\nActe organitzat amb motiu dels 51 Premis Octubre. Amb la col·laboració d’Acció Cultural del País Valencià i del Departament de Cultura de la Generalitat de Catalunya
URL:https://octubre.cat/activitat/en-les-arrels-fuster/
LOCATION:Sala d’actes
CATEGORIES:Any Joan Fuster 2022,Literatura,Música
ATTACH;FMTTYPE=image/jpeg:https://octubre.cat/www/wp-content/uploads/2022/05/joan_fuster.jpg
END:VEVENT
END:VCALENDAR