BEGIN:VCALENDAR
VERSION:2.0
PRODID:-//Octubre Centre de Cultura Contemporània - ECPv5.1.6//NONSGML v1.0//EN
CALSCALE:GREGORIAN
METHOD:PUBLISH
X-WR-CALNAME:Octubre Centre de Cultura Contemporània
X-ORIGINAL-URL:https://octubre.cat
X-WR-CALDESC:Events for Octubre Centre de Cultura Contemporània
BEGIN:VTIMEZONE
TZID:Europe/Andorra
BEGIN:DAYLIGHT
TZOFFSETFROM:+0100
TZOFFSETTO:+0200
TZNAME:CEST
DTSTART:20170326T010000
END:DAYLIGHT
BEGIN:STANDARD
TZOFFSETFROM:+0200
TZOFFSETTO:+0100
TZNAME:CET
DTSTART:20171029T010000
END:STANDARD
END:VTIMEZONE
BEGIN:VEVENT
DTSTART;TZID=Europe/Andorra:20170330T190000
DTEND;TZID=Europe/Andorra:20170330T190000
DTSTAMP:20260420T180950
CREATED:20200729T172438Z
LAST-MODIFIED:20200729T185752Z
UID:11050-1490900400-1490900400@octubre.cat
SUMMARY:En defensa de la terra
DESCRIPTION:Dijous 30 de març a les 19.00h. Acte organitzat per Perifèries amb la participació de representants de diversos pobles indígenes.  \n  \n  \n\n Acte organitzat per Perifèries\, organització de solidaritat internacionalista. Participaran representants de diversos pobles indígenes.
URL:https://octubre.cat/activitat/en-defensa-de-la-terra/
CATEGORIES:Conferències i congressos
ATTACH;FMTTYPE=image/jpeg:https://octubre.cat/www/wp-content/uploads/2020/07/activitat2785.jpg
END:VEVENT
END:VCALENDAR