BEGIN:VCALENDAR
VERSION:2.0
PRODID:-//Octubre Centre de Cultura Contemporània - ECPv5.1.6//NONSGML v1.0//EN
CALSCALE:GREGORIAN
METHOD:PUBLISH
X-WR-CALNAME:Octubre Centre de Cultura Contemporània
X-ORIGINAL-URL:https://octubre.cat
X-WR-CALDESC:Events for Octubre Centre de Cultura Contemporània
BEGIN:VTIMEZONE
TZID:Europe/Andorra
BEGIN:DAYLIGHT
TZOFFSETFROM:+0100
TZOFFSETTO:+0200
TZNAME:CEST
DTSTART:20130331T010000
END:DAYLIGHT
BEGIN:STANDARD
TZOFFSETFROM:+0200
TZOFFSETTO:+0100
TZNAME:CET
DTSTART:20131027T010000
END:STANDARD
END:VTIMEZONE
BEGIN:VEVENT
DTSTART;TZID=Europe/Andorra:20131218T190000
DTEND;TZID=Europe/Andorra:20131218T190000
DTSTAMP:20260423T002901
CREATED:20200729T170239Z
LAST-MODIFIED:20200729T184254Z
UID:9650-1387393200-1387393200@octubre.cat
SUMMARY:'En construcción'\, de José Luís Guerín
DESCRIPTION:Dimecres 18 de desembre a les 19.00h. Projecció del film ‘En construcción’ de José Luís Guerín (2001) com a cloenda del cicle de cinema Barcelona Escenari 2013  \n  \n  \n\n Pel·lícula presentada per Abel Garcia Roure (director de cinema\, assistent de direcció en aquest film)  Retrat col·lectiu de tota classe de personatges que viuen al Raval de Barcelona\, barri que es troba submergit en una espiral de canvis radicals a causa d’un pla de reforma urbana. Tots intenten anar endavant com poden entre les noves construccions\, les obres i les troballes arqueològiques.  Direcció: José Luís Guerín (2001) Amb Juan Rodríguez Molina\, Iván Guzmán Jiménez\, Juan López\, Juan Manuel López\, Pedro Robles  Organitzat per l’Octubre CCC amb la col·laboració de l’Institut de Cultura de Barcelona Direcció del cicle: Antonio Llorens Entrada lliure
URL:https://octubre.cat/activitat/en-construccion-de-jose-luis-guerin/
LOCATION:Sala d’actes
CATEGORIES:Barcelona Escenari 2013 (cinema)
ATTACH;FMTTYPE=image/jpeg:https://octubre.cat/www/wp-content/uploads/2020/07/activitat1940.jpg
END:VEVENT
END:VCALENDAR