BEGIN:VCALENDAR
VERSION:2.0
PRODID:-//Octubre Centre de Cultura Contemporània - ECPv5.1.6//NONSGML v1.0//EN
CALSCALE:GREGORIAN
METHOD:PUBLISH
X-WR-CALNAME:Octubre Centre de Cultura Contemporània
X-ORIGINAL-URL:https://octubre.cat
X-WR-CALDESC:Events for Octubre Centre de Cultura Contemporània
BEGIN:VTIMEZONE
TZID:Europe/Andorra
BEGIN:DAYLIGHT
TZOFFSETFROM:+0100
TZOFFSETTO:+0200
TZNAME:CEST
DTSTART:20100328T010000
END:DAYLIGHT
BEGIN:STANDARD
TZOFFSETFROM:+0200
TZOFFSETTO:+0100
TZNAME:CET
DTSTART:20101031T010000
END:STANDARD
END:VTIMEZONE
BEGIN:VEVENT
DTSTART;TZID=Europe/Andorra:20100330T190000
DTEND;TZID=Europe/Andorra:20100330T190000
DTSTAMP:20260420T172104
CREATED:20200729T164805Z
LAST-MODIFIED:20200729T182838Z
UID:8767-1269975600-1269975600@octubre.cat
SUMMARY:Els paisatges d'aigua\, espais de ciutadania
DESCRIPTION:Dimarts 30 de març\, a les 19.00h: Jornades “Els rius\, molt més que aigua”. Taula rodona “Els paisatges d’aigua\, espais de ciutadania”.   \n  \n  \n\nEls paisatges d’aigua\, espais de ciutadania  Taula rodona amb la participació de Francesc Tortosa\, geògraf\, i un representant de l’Agència Catalana de l’Aigua.   Presenta i modera: Eliseu T. Climent\, Institut del Territori.
URL:https://octubre.cat/activitat/els-paisatges-daigua-espais-de-ciutadania/
LOCATION:No definit
CATEGORIES:Els rius, molt més que aigua
ATTACH;FMTTYPE=image/jpeg:https://octubre.cat/www/wp-content/uploads/2020/07/activitat1113.jpg
END:VEVENT
END:VCALENDAR