BEGIN:VCALENDAR
VERSION:2.0
PRODID:-//Octubre Centre de Cultura Contemporània - ECPv5.1.6//NONSGML v1.0//EN
CALSCALE:GREGORIAN
METHOD:PUBLISH
X-WR-CALNAME:Octubre Centre de Cultura Contemporània
X-ORIGINAL-URL:https://octubre.cat
X-WR-CALDESC:Events for Octubre Centre de Cultura Contemporània
BEGIN:VTIMEZONE
TZID:Europe/Andorra
BEGIN:DAYLIGHT
TZOFFSETFROM:+0100
TZOFFSETTO:+0200
TZNAME:CEST
DTSTART:20170326T010000
END:DAYLIGHT
BEGIN:STANDARD
TZOFFSETFROM:+0200
TZOFFSETTO:+0100
TZNAME:CET
DTSTART:20171029T010000
END:STANDARD
END:VTIMEZONE
BEGIN:VEVENT
DTSTART;TZID=Europe/Andorra:20170111T000000
DTEND;TZID=Europe/Andorra:20170128T000000
DTSTAMP:20260425T192535
CREATED:20200729T172324Z
LAST-MODIFIED:20200904T150337Z
UID:10967-1484092800-1485561600@octubre.cat
SUMMARY:'Els ‘Niños de la Guerra’ expliquen la seva vida\, expliquen la teva història'
DESCRIPTION:Inauguració: dimecres 11 de gener a les 19.00h.\nPresentació a càrrec de Dolores Cabra (secretària general de l’associació Archivo\, Guerra y Exilio i coordinadora de l’exposició)\, Josep Fernández Trabal (cap de l’àrea de Fons Històrics de l’Arxiu Nacional de Catalunya) i Alejandra Soler (exiliada a l’URSS i mestra dels xiquets espanyols que el règim soviètic havia acollit). \nEntre el mes de març de 1937 i el novembre de 1938\, en el marc d’un acord amb la Unió Soviètica\, el Govern de la República va enviar a l’URSS gairebé 3.000 nens i nenes per a protegir-los de la guerra. Molts eren orfes o fills de lluitadors al front i van rebre una gran acollida popular i de les autoritats\, però l’estada que havia de ser temporal es convertí en un exili forçós que va marcar del tot les seves vides. Aquesta exposició explica la història dels anomenats “Nens de la Guerra” a partir de les vivències dels mateixos protagonistes recollides\, majoritàriament\, en els documents textuals i gràfics del fons Centro Español de Moscú\, donat per l’Asociación Archivo Guerra y Exilio (AGE) a l’Arxiu Nacional de Catalunya. Narra un dels més bonics capítols de la solidaritat entre els pobles: l’acolliment dels nens refugiats de la guerra. Va ser una actuació profundament humana\, que crida positivament l’atenció en el context actual. \nUna exposició de l’Asociación Archivo Guerra y Exilio (AGE) / Arxiu Nacional de Catalunya (ANC) / Centro Español de Moscú (CEM) / Fundación Nostalgia (F-N)\nComissari: Juan Barceló (vocal de la Junta Directiva d’AGE)\nCoordinació: Dolores Cabra (secretària general d’AGE)\nDocumentació: Josep Fernández Trabal i Pilar Frago (ANC)
URL:https://octubre.cat/activitat/els-ninos-de-la-guerra-expliquen-la-seva-vida-expliquen-la-teva-historia/
LOCATION:Sala d’exposicions
CATEGORIES:Exposicions
ATTACH;FMTTYPE=image/png:https://octubre.cat/www/wp-content/uploads/2020/07/activitat2744.png
END:VEVENT
END:VCALENDAR