BEGIN:VCALENDAR
VERSION:2.0
PRODID:-//Octubre Centre de Cultura Contemporània - ECPv5.1.6//NONSGML v1.0//EN
CALSCALE:GREGORIAN
METHOD:PUBLISH
X-WR-CALNAME:Octubre Centre de Cultura Contemporània
X-ORIGINAL-URL:https://octubre.cat
X-WR-CALDESC:Events for Octubre Centre de Cultura Contemporània
BEGIN:VTIMEZONE
TZID:Europe/Andorra
BEGIN:DAYLIGHT
TZOFFSETFROM:+0100
TZOFFSETTO:+0200
TZNAME:CEST
DTSTART:20070325T010000
END:DAYLIGHT
BEGIN:STANDARD
TZOFFSETFROM:+0200
TZOFFSETTO:+0100
TZNAME:CET
DTSTART:20071028T010000
END:STANDARD
END:VTIMEZONE
BEGIN:VEVENT
DTSTART;TZID=Europe/Andorra:20070124T000000
DTEND;TZID=Europe/Andorra:20070124T000000
DTSTAMP:20260420T170122
CREATED:20251226T200040Z
LAST-MODIFIED:20251226T200040Z
UID:24315-1169596800-1169596800@octubre.cat
SUMMARY:Els argonautes del Pacífic Occidental\, de Malinovski
DESCRIPTION:A càrrec de Manuel Delgado\, doctor en Antropologia Social i professor de la Universitat de Barcelona \n—\nEn col·laboració amb l’Institut d’Humanitats de Barcelona i el CCCB
URL:https://octubre.cat/activitat/els-argonautes-del-pacific-occidental-de-malinovski/
LOCATION:No definit
CATEGORIES:Els Grans Llibres d'Occident
ATTACH;FMTTYPE=image/jpeg:https://octubre.cat/www/wp-content/uploads/2020/07/tallers1-1.jpg
END:VEVENT
END:VCALENDAR