BEGIN:VCALENDAR
VERSION:2.0
PRODID:-//Octubre Centre de Cultura Contemporània - ECPv5.1.6//NONSGML v1.0//EN
CALSCALE:GREGORIAN
METHOD:PUBLISH
X-WR-CALNAME:Octubre Centre de Cultura Contemporània
X-ORIGINAL-URL:https://octubre.cat
X-WR-CALDESC:Events for Octubre Centre de Cultura Contemporània
BEGIN:VTIMEZONE
TZID:Europe/Andorra
BEGIN:DAYLIGHT
TZOFFSETFROM:+0100
TZOFFSETTO:+0200
TZNAME:CEST
DTSTART:20100328T010000
END:DAYLIGHT
BEGIN:STANDARD
TZOFFSETFROM:+0200
TZOFFSETTO:+0100
TZNAME:CET
DTSTART:20101031T010000
END:STANDARD
END:VTIMEZONE
BEGIN:VEVENT
DTSTART;TZID=Europe/Andorra:20100323T190000
DTEND;TZID=Europe/Andorra:20100323T190000
DTSTAMP:20260420T162356
CREATED:20200729T164805Z
LAST-MODIFIED:20200729T182838Z
UID:8766-1269370800-1269370800@octubre.cat
SUMMARY:El Xúquer: el nostre futur en joc
DESCRIPTION:Dimarts 23 de març\, a les 19.00h: Taula rodona “El Xúquer: el nostre futur en joc”.   \n  \n  \n\nEl Xúquer: el nostre futur en joc  Taula rodona amb la participació de:  Gregorio López Sanz\, professor de la Universitat de Castella la Manxa.  Joan Baldoví\, alcalde de Sueca.  Graciela Ferrer\, secretària de Xúquer Viu.   Presenta i modera: Carmela Cerdà\, Ecologistes en Acció del País Valencià.
URL:https://octubre.cat/activitat/el-xuquer-el-nostre-futur-en-joc/
LOCATION:No definit
CATEGORIES:Els rius, molt més que aigua
ATTACH;FMTTYPE=image/jpeg:https://octubre.cat/www/wp-content/uploads/2020/07/activitat1112.jpg
END:VEVENT
END:VCALENDAR