BEGIN:VCALENDAR
VERSION:2.0
PRODID:-//Octubre Centre de Cultura Contemporània - ECPv5.1.6//NONSGML v1.0//EN
CALSCALE:GREGORIAN
METHOD:PUBLISH
X-WR-CALNAME:Octubre Centre de Cultura Contemporània
X-ORIGINAL-URL:https://octubre.cat
X-WR-CALDESC:Events for Octubre Centre de Cultura Contemporània
BEGIN:VTIMEZONE
TZID:Europe/Andorra
BEGIN:DAYLIGHT
TZOFFSETFROM:+0100
TZOFFSETTO:+0200
TZNAME:CEST
DTSTART:20130331T010000
END:DAYLIGHT
BEGIN:STANDARD
TZOFFSETFROM:+0200
TZOFFSETTO:+0100
TZNAME:CET
DTSTART:20131027T010000
END:STANDARD
END:VTIMEZONE
BEGIN:VEVENT
DTSTART;TZID=Europe/Andorra:20130417T000000
DTEND;TZID=Europe/Andorra:20130518T000000
DTSTAMP:20260425T235932
CREATED:20200729T170007Z
LAST-MODIFIED:20200830T162301Z
UID:9510-1366156800-1368835200@octubre.cat
SUMMARY:El valencianisme republicà 1837-1977
DESCRIPTION:Exposició produïda per la Fundació Josep Irla\nDirecció: Josep Vall\nAssessorament històric: Antoni Furió i Pau Viciano\nDocumentació: Arnau Albert \nInauguració: Dimecres 17 d’abril de 2013 a les 19.00h Amb la participació de Josep Huguet (president de la Fundació Josep Irla)\, Oriol Junqueras (president d’Esquerra Republicana de Catalunya)\, Pau Viciano (Universitat de València) i Eliseu Climent (Acció Cultural del País Valencià). \nEl valencianisme republicà és producte del conjunt d’idees\, entitats\, publicacions\, llibres\, iniciatives\, fets i personatges que des de mitjans del segle XIX reivindiquen els trets nacionals del poble valencià i la seua vinculació amb la resta de terres de llengua catalana\, i van lligant progressivament el seu futur en llibertat a un projecte democràtic de renovació cultural\, cívica i política d’arrels republicanes. La història del valencianisme republicà és la crònica de la lenta presa de consciència d’un poble desposseït\, de la lluita per la recuperació lingüística\, cultural i nacional del País Valencià. D’una lluita menada a través de l’acció cultural\, cívica i política. Aquesta exposició itinerant ret homenatge a totes les generacions de valencianistes que han protagonitzat aquesta lluita.
URL:https://octubre.cat/activitat/el-valencianisme-republica-1837-1977/
LOCATION:Hall
CATEGORIES:Exposicions
ATTACH;FMTTYPE=image/jpeg:https://octubre.cat/www/wp-content/uploads/2020/07/activitat1765.jpg
END:VEVENT
END:VCALENDAR