BEGIN:VCALENDAR
VERSION:2.0
PRODID:-//Octubre Centre de Cultura Contemporània - ECPv5.1.6//NONSGML v1.0//EN
CALSCALE:GREGORIAN
METHOD:PUBLISH
X-WR-CALNAME:Octubre Centre de Cultura Contemporània
X-ORIGINAL-URL:https://octubre.cat
X-WR-CALDESC:Events for Octubre Centre de Cultura Contemporània
BEGIN:VTIMEZONE
TZID:Europe/Andorra
BEGIN:DAYLIGHT
TZOFFSETFROM:+0100
TZOFFSETTO:+0200
TZNAME:CEST
DTSTART:20190331T010000
END:DAYLIGHT
BEGIN:STANDARD
TZOFFSETFROM:+0200
TZOFFSETTO:+0100
TZNAME:CET
DTSTART:20191027T010000
END:STANDARD
END:VTIMEZONE
BEGIN:VEVENT
DTSTART;TZID=Europe/Andorra:20190327T184500
DTEND;TZID=Europe/Andorra:20190327T184500
DTSTAMP:20260421T151846
CREATED:20200729T173334Z
LAST-MODIFIED:20200729T191110Z
UID:11401-1553712300-1553712300@octubre.cat
SUMMARY:El valencianisme front les eleccions autonòmiques
DESCRIPTION:Dimecres 27 de març a les 18.45h. Debat organitzat per la revista Mirall PV\,	 \n  \n  \n\n 	 Presentació: Moisés Pérez (setmanari El Temps)  Participen: –Mònica Àlvaro (Compromís) –Lluís Bertomeu (Demòcrates Valencians) –David de Miguel (Agermanats) –Manolo Mata (PSPV) –Jaume Monfort (Podem)  Modera: Jordi S. Carbonell (director de Mirall València)  Organitzat per la revista Mirall País Valencià
URL:https://octubre.cat/activitat/el-valencianisme-front-les-eleccions-autonomiques/
LOCATION:Aula 2
CATEGORIES:Conferències i congressos
ATTACH;FMTTYPE=image/jpeg:https://octubre.cat/www/wp-content/uploads/2020/07/activitat3245.jpg
END:VEVENT
END:VCALENDAR