BEGIN:VCALENDAR
VERSION:2.0
PRODID:-//Octubre Centre de Cultura Contemporània - ECPv5.1.6//NONSGML v1.0//EN
CALSCALE:GREGORIAN
METHOD:PUBLISH
X-WR-CALNAME:Octubre Centre de Cultura Contemporània
X-ORIGINAL-URL:https://octubre.cat
X-WR-CALDESC:Events for Octubre Centre de Cultura Contemporània
BEGIN:VTIMEZONE
TZID:Europe/Andorra
BEGIN:DAYLIGHT
TZOFFSETFROM:+0100
TZOFFSETTO:+0200
TZNAME:CEST
DTSTART:20180325T010000
END:DAYLIGHT
BEGIN:STANDARD
TZOFFSETFROM:+0200
TZOFFSETTO:+0100
TZNAME:CET
DTSTART:20181028T010000
END:STANDARD
END:VTIMEZONE
BEGIN:VEVENT
DTSTART;TZID=Europe/Andorra:20180115T000000
DTEND;TZID=Europe/Andorra:20180131T000000
DTSTAMP:20260421T085042
CREATED:20200729T190240Z
LAST-MODIFIED:20200729T190240Z
UID:13307-1515974400-1517356800@octubre.cat
SUMMARY:'El valencià\, al cinema!'
DESCRIPTION:Exposició al hall del 15 al 31 de gener. Organitzada per la Plataforma per la Llengua amb la col·laboració d’Acció Cultural del País Valencià.  \n  \n  \n\n Inauguració: dilluns 15 de gener a les 19.00 h.  La campanya «El valencià\, al cinema!» de la Plataforma per la Llengua reivindica que els espectadors puguen veure amb normalitat pel·lícules en valencià en l’àmbit cinematogràfic i audiovisual: en la gran pantalla\, o per d’altres canals\, com el DVD o el lloguer per Internet.  Així\, la Plataforma per la Llengua demana poder escollir films en versió en valencià (doblades\, subtitulades o en versió original) en igualtat de condicions respecte als que s’editen en versió espanyola. L’exposició itinerant fa balanç de la situació de la llengua al món del cinema i presenta propostes per dignificar el treball del sector audiovisual del nostre país.  Consulta el web de la campanya: www.elvalenciaalcinema.cat.  Exposició organitzada per la Plataforma per la Llengua amb la col·laboració d’Acció Cultural del País Valencià.  — Entrada lliure. Horari de visites: -De dilluns a divendres: de 9h a 21h -Dissabtes matí: de 10h a 14h -Dissabtes vesprada\, diumenges i festius tot el dia: tancat
URL:https://octubre.cat/activitat/el-valencia-al-cinema/
LOCATION:Hall
CATEGORIES:Exposicions
ATTACH;FMTTYPE=image/jpeg:https://octubre.cat/www/wp-content/uploads/2020/07/activitat2946.jpg
END:VEVENT
END:VCALENDAR