BEGIN:VCALENDAR
VERSION:2.0
PRODID:-//Octubre Centre de Cultura Contemporània - ECPv5.1.6//NONSGML v1.0//EN
CALSCALE:GREGORIAN
METHOD:PUBLISH
X-WR-CALNAME:Octubre Centre de Cultura Contemporània
X-ORIGINAL-URL:https://octubre.cat
X-WR-CALDESC:Events for Octubre Centre de Cultura Contemporània
BEGIN:VTIMEZONE
TZID:Europe/Andorra
BEGIN:DAYLIGHT
TZOFFSETFROM:+0100
TZOFFSETTO:+0200
TZNAME:CEST
DTSTART:20140330T010000
END:DAYLIGHT
BEGIN:STANDARD
TZOFFSETFROM:+0200
TZOFFSETTO:+0100
TZNAME:CET
DTSTART:20141026T010000
END:STANDARD
END:VTIMEZONE
BEGIN:VEVENT
DTSTART;TZID=Europe/Andorra:20140201T103000
DTEND;TZID=Europe/Andorra:20140201T103000
DTSTAMP:20260422T001853
CREATED:20200729T170326Z
LAST-MODIFIED:20200729T184342Z
UID:9696-1391250600-1391250600@octubre.cat
SUMMARY:'El último bailarín de Mao'\, de Bruce Beresford
DESCRIPTION:Dissabte 1 de febrer a les 10.30h: projecció de la pel·lícula El último bailarín de Mao. L’associació cultural T’ai\, destinada a fomentar i potenciar l’aprenentatge del xinès i l’acostament a la cultura de Xina\, programa aquesta exhibició cinematogràfica per celebrar l’Any Nou Xinès. Entrada lliure.  \n  \n  \n\n Basada en fets reals. Li Cunxin va ser rescatat als onze anys d’un llogaret xinés per delegats culturals de Mao i enviat a estudiar ballet a Pequín. Després d’anys de duríssim aprenentatge\, es va convertir en un dels millors ballarins del món. Aclamat al principi com un heroi de la Xina comunista\, va acabar sent acusat de traïció perquè\, durant un intercanvi cultural amb Texas\, es va enamorar d’una nord-americana i va intentar quedar-se als Estats Units.  Austràlia\, 2009 Director: Bruce Beresford Guió: Jan Sardi Actors:  Bruce Greenwood\, Kyle MacLachlan\, Amanda Schull\, Joan Chen\, Chi Cao\, Alice Parkinson  Projecció organitzada per l’associació cultural T’ai amb motiu de l’Any Nou Xinès.
URL:https://octubre.cat/activitat/el-ultimo-bailarin-de-mao-de-bruce-beresford/
LOCATION:Sala d’actes
CATEGORIES:Cinema
ATTACH;FMTTYPE=image/jpeg:https://octubre.cat/www/wp-content/uploads/2020/07/activitat1988.jpg
END:VEVENT
END:VCALENDAR