BEGIN:VCALENDAR
VERSION:2.0
PRODID:-//Octubre Centre de Cultura Contemporània - ECPv5.1.6//NONSGML v1.0//EN
CALSCALE:GREGORIAN
METHOD:PUBLISH
X-WR-CALNAME:Octubre Centre de Cultura Contemporània
X-ORIGINAL-URL:https://octubre.cat
X-WR-CALDESC:Events for Octubre Centre de Cultura Contemporània
BEGIN:VTIMEZONE
TZID:Europe/Andorra
BEGIN:DAYLIGHT
TZOFFSETFROM:+0100
TZOFFSETTO:+0200
TZNAME:CEST
DTSTART:20190331T010000
END:DAYLIGHT
BEGIN:STANDARD
TZOFFSETFROM:+0200
TZOFFSETTO:+0100
TZNAME:CET
DTSTART:20191027T010000
END:STANDARD
END:VTIMEZONE
BEGIN:VEVENT
DTSTART;TZID=Europe/Andorra:20190626T190000
DTEND;TZID=Europe/Andorra:20190626T190000
DTSTAMP:20260421T121644
CREATED:20200729T173418Z
LAST-MODIFIED:20200729T191149Z
UID:11449-1561575600-1561575600@octubre.cat
SUMMARY:"El somni de les sargantanes"\, de Pedro Pérez Rosado
DESCRIPTION:Dimecres 26 de juny a les 19.00h. Cicle de cinema valencià. Projecció presentada pel director i per la guionista Lilian Rosado González. Entrada lliure.	 \n  \n  \n\n 	 Presentada pel director Pedro Pérez Rosado\, la guionista Lilian Rosado i Antonio Lloréns.  Vicent\, més conegut com ‘el sargantana’\, va morir fa uns quants anys\, i ara se li apareix a la seua dona Dolors\, quan li diagnostiquen un tumor cerebral. La família està travessant un dels seus pitjors moments\, i el fantasma de Vicent intentarà ajudar la seua dona perquè done suport al seu fill\, que ha estat desnonat i al que se li passaran pel cap les pitjors intencions per poder pagar els seus deutes .  Direcció: Pedro Pérez Rosado (2018) Guió: Lilian Rosado González Fotografia: Miguel Llorens Repartiment: Maria Minaya\, Lola Moltó\, Ximo Solano Productora: PRP Produccions Durada: 85’  — Cicle de cinema valencià Coordinació del cicle: Antonio Lloréns Entrada lliure.
URL:https://octubre.cat/activitat/el-somni-de-les-sargantanes-de-pedro-perez-rosado/
LOCATION:Sala d’actes
CATEGORIES:Cinema
ATTACH;FMTTYPE=image/jpeg:https://octubre.cat/www/wp-content/uploads/2020/07/activitat3294.jpg
END:VEVENT
END:VCALENDAR