BEGIN:VCALENDAR
VERSION:2.0
PRODID:-//Octubre Centre de Cultura Contemporània - ECPv5.1.6//NONSGML v1.0//EN
CALSCALE:GREGORIAN
METHOD:PUBLISH
X-WR-CALNAME:Octubre Centre de Cultura Contemporània
X-ORIGINAL-URL:https://octubre.cat
X-WR-CALDESC:Events for Octubre Centre de Cultura Contemporània
BEGIN:VTIMEZONE
TZID:Europe/Andorra
BEGIN:DAYLIGHT
TZOFFSETFROM:+0100
TZOFFSETTO:+0200
TZNAME:CEST
DTSTART:20150329T010000
END:DAYLIGHT
BEGIN:STANDARD
TZOFFSETFROM:+0200
TZOFFSETTO:+0100
TZNAME:CET
DTSTART:20151025T010000
END:STANDARD
END:VTIMEZONE
BEGIN:VEVENT
DTSTART;TZID=Europe/Andorra:20151216T190000
DTEND;TZID=Europe/Andorra:20151216T190000
DTSTAMP:20260421T054737
CREATED:20200729T171423Z
LAST-MODIFIED:20200902T161405Z
UID:10393-1450292400-1450292400@octubre.cat
SUMMARY:'El somni català'\, de Josep Maria Forn
DESCRIPTION:Dimecres 16 de desembre a les 19.00h. Projecció presentada pel director i inclosa en el cicle de cinema Barcelona Escenari 2015. Entrada lliure.  \n  \n  \n\n Projecció presentada pel director  Híbrida entre documental i ficció\, la pel·lícula repassa els darrers 100 anys de la història de Catalunya i combina escenes de films històrics dirigits pel propi Forn\, imatges d’arxiu i algunes escenes noves per a compondre un puzzle que mostra la preocupació per la identitat catalana\, tan present sempre en l’obra del cineasta. La pel·lícula s’inicia en la conversació entre Alfons XIII i un jove Francesc Cambó en la visita del monarca a Barcelona el 1904 i\, a partir d’aquí\, recorre episodis de la història catalana com l’assalt a les redaccions de Cu-Cut! i La Veu de Catalunya\, la dictadura de Primo de Rivera\, la proclamació de la república catalana de Francesc Macià\, l’afusellament de Companys\, el franquisme i l’arribada de la democràcia\, fins les massives manifestacions dels darrers 11 de setembre.  Direcció: Josep Maria Forn (2015) Veu en off: Montserrat Carulla Producció: Films de l’Orient.  Cicle organitzat per l’Octubre Centre de Cultura Contemporània amb el patrocini de l’Institut de Cultura de Barcelona Col·labora: Mostra Viva Direcció del cicle: Antonio Lloréns
URL:https://octubre.cat/activitat/el-somni-catala-de-josep-maria-forn/
LOCATION:Sala d’actes
CATEGORIES:Barcelona escenari 2015 (cinema)
ATTACH;FMTTYPE=image/jpeg:https://octubre.cat/www/wp-content/uploads/2020/07/activitat2442.jpg
END:VEVENT
END:VCALENDAR