BEGIN:VCALENDAR
VERSION:2.0
PRODID:-//Octubre Centre de Cultura Contemporània - ECPv5.1.6//NONSGML v1.0//EN
CALSCALE:GREGORIAN
METHOD:PUBLISH
X-WR-CALNAME:Octubre Centre de Cultura Contemporània
X-ORIGINAL-URL:https://octubre.cat
X-WR-CALDESC:Events for Octubre Centre de Cultura Contemporània
BEGIN:VTIMEZONE
TZID:Europe/Andorra
BEGIN:DAYLIGHT
TZOFFSETFROM:+0100
TZOFFSETTO:+0200
TZNAME:CEST
DTSTART:20100328T010000
END:DAYLIGHT
BEGIN:STANDARD
TZOFFSETFROM:+0200
TZOFFSETTO:+0100
TZNAME:CET
DTSTART:20101031T010000
END:STANDARD
END:VTIMEZONE
BEGIN:VEVENT
DTSTART;TZID=Europe/Andorra:20100326T190000
DTEND;TZID=Europe/Andorra:20100326T190000
DTSTAMP:20260420T200224
CREATED:20200729T164754Z
LAST-MODIFIED:20200729T182827Z
UID:8755-1269630000-1269630000@octubre.cat
SUMMARY:El sistema agroalimentari al País Valencià: on ha quedat el món rural?
DESCRIPTION:Divendres 26 de març\, a les 19.00h: El sistema alimentari\, a debat. “El sistema agroalimentari al País Valencià: on ha quedat el món rural?”\, taula rodona amb representants del sector.  \n  \n  \n\nEl sistema agroalimentari al País Valencià: on ha quedat el món rural?  Debat amb la intervenció de representants dels diversos sectors de la producció agroalimentària. Presenta l’acte: Beatriu Gascó\, representant de Food Sovereignity.   En l’acte\, s’aprofitarà també per a presentar el llibre Terra. Superar l’era del petroli\, cap una nova justícia ambiental\, últim treball de l’ecologista índia Vandana Shiva\, que ha sigut coeditat per l’Institut del Territori i Edicions Tres i Quatre.
URL:https://octubre.cat/activitat/el-sistema-agroalimentari-al-pais-valencia-on-ha-quedat-el-mon-rural/
LOCATION:No definit
CATEGORIES:Institut del Territori
ATTACH;FMTTYPE=image/jpeg:https://octubre.cat/www/wp-content/uploads/2020/07/activitat1100.jpg
END:VEVENT
END:VCALENDAR