BEGIN:VCALENDAR
VERSION:2.0
PRODID:-//Octubre Centre de Cultura Contemporània - ECPv5.1.6//NONSGML v1.0//EN
CALSCALE:GREGORIAN
METHOD:PUBLISH
X-WR-CALNAME:Octubre Centre de Cultura Contemporània
X-ORIGINAL-URL:https://octubre.cat
X-WR-CALDESC:Events for Octubre Centre de Cultura Contemporània
BEGIN:VTIMEZONE
TZID:Europe/Andorra
BEGIN:DAYLIGHT
TZOFFSETFROM:+0100
TZOFFSETTO:+0200
TZNAME:CEST
DTSTART:20170326T010000
END:DAYLIGHT
BEGIN:STANDARD
TZOFFSETFROM:+0200
TZOFFSETTO:+0100
TZNAME:CET
DTSTART:20171029T010000
END:STANDARD
END:VTIMEZONE
BEGIN:VEVENT
DTSTART;TZID=Europe/Andorra:20170629T093000
DTEND;TZID=Europe/Andorra:20170629T093000
DTSTAMP:20260420T202221
CREATED:20200729T172639Z
LAST-MODIFIED:20251225T070906Z
UID:11181-1498728600-1498728600@octubre.cat
SUMMARY:El sector agroalimentari a l'Euroregió de l'Arc Mediterrani
DESCRIPTION:L’ Institut Ignasi Villalonga d’Economia i Empresa (IIVEE) presenta la jornada de debat sobre el sector agroalimentari de Catalunya\, el País Valencià i les Illes Balears. Les intervencions\, ponències i taules d’aquest programa aborden qüestions derivades de sessions tècniques realitzades durant el 2016 i el 2017 a Palma\, València i Barcelona. En aquestes\, hi han participat tècnics\, investigadors i representants d’organitzacions del sector. El primer tema dels treballats en les sessions ha estat la sobirania alimentària; un tema que en aquesta jornada analitzem en relació amb les possibilitats dels models d’agricultura mediterrània en el context de la globalització econòmica. Un segon tema el constitueix la política agroalimentària comunitària\, el debat sobre l’adequació de les línies estratègiques dictades per Brussel·les i la seua conveniència\, o no\, envers les necessitats de les principals produccions agràries que es troben a l’Euroregió de l’Arc Mediterrani (Euram). En tercer lloc\, introduïm el debat sobre la política del sector pesquer a la Unió Europea. Amb un litoral compartit de vora 1.200 quilòmetres\, els interessos pesquers de les flotes balear\, catalana i valenciana són bastant semblants. Entre els principals reptes del sector des de la perspectiva de la sostenibilitat es compten el manteniment de la pesca extractiva i l’increment de l’activitat de l’aqüicultura. Finalment\, la quarta temàtica que plantegem per al debat d’aquesta jornada la constitueix l’àrea d’Investigació i innovació. Els territoris de l’Euram compten amb una base de centres de recerca públics i privats\, i amb nombrosos agents que comparteixen el coneixement i promouen activitats innovadores i d’investigació. Encara manquen\, però\, els mecanismes suficients per a millorar els mecanismes de cooperació territorial que permeten l’increment del valor basat en el coneixement.  Programa  9.30h  Inauguració —Antoni Serra Ramoneda\, president de l’Institut Ignasi Villalonga d’Economia i Empresa —Francisco Rodríguez Mulero\, secretari autonòmic d’Agricultura de la Generalitat Valenciana  9.45h -10.30h  Conferència d’obertura: “Globalització econòmica i models per a l’agricultura mediterrània” —José María García Álvarez-Coque\, catedràtic d’economia aplicada\, professor d’economia  agrària  i coordinador del Grup d’Economia Internacional de la Universitat Politècnica de València  10.30h –  11.30h Taula 1: “Quina Política Agrària Comuna necessita l’Euram?” —Mateu Ginard\, director general d’Agricultura i Ramaderia del Govern Balear —Oriol Anson\, director general de Desenvolupament Rural de la Generalitat de Catalunya —Maite Cháfer\, directora general de Desenvolupament Rural i PAC de la Generalitat Valenciana  11.30h- 12.00h Pausa  12.00h – 13.00h Taula 2: “Quina política pesquera necessita l’Euram?” —Roger Llanes\, director general d’Agricultura\, Ramaderia  i Pesca de la Generalitat Valenciana —Sergi Tudela\, director general de Pesca i Afers Marítims de la Generalitat de Catalunya —Juan  Mercant\,  director general de Pesca i Medi Marí del Govern de les Illes Balears  13.00h – 14.00h  Taula 3: “Adaptació de la innovació i investigació agrària a les demandes de la societat” —Carmel Mòdol\, director general d’Alimentació\, Qualitat i Indústries Agroalimentàries de la Generalitat de Catalunya —Enrique Moltó\, director de l’Institut Valencià d’Investigacions Agràries  14.00h Cloenda  Organitzat per l’Institut Ignasi Villalonga d’Economia i Empresa (IIVEE) i la Conselleria d’Agricultura\, Medi Ambient\, Canvi Climàtic i Desenvolupament Rural de la Generalitat Valenciana.  Més informació i inscripcions
URL:https://octubre.cat/activitat/el-sector-agroalimentari-a-leuroregio-de-larc-mediterrani/
LOCATION:Sala d’actes
CATEGORIES:Institut Ignasi Villalonga d'Economia i Empresa
ATTACH;FMTTYPE=image/png:https://octubre.cat/www/wp-content/uploads/2020/07/activitat2851.png
END:VEVENT
END:VCALENDAR