BEGIN:VCALENDAR
VERSION:2.0
PRODID:-//Octubre Centre de Cultura Contemporània - ECPv5.1.6//NONSGML v1.0//EN
CALSCALE:GREGORIAN
METHOD:PUBLISH
X-WR-CALNAME:Octubre Centre de Cultura Contemporània
X-ORIGINAL-URL:https://octubre.cat
X-WR-CALDESC:Events for Octubre Centre de Cultura Contemporània
BEGIN:VTIMEZONE
TZID:Europe/Andorra
BEGIN:DAYLIGHT
TZOFFSETFROM:+0100
TZOFFSETTO:+0200
TZNAME:CEST
DTSTART:20090329T010000
END:DAYLIGHT
BEGIN:STANDARD
TZOFFSETFROM:+0200
TZOFFSETTO:+0100
TZNAME:CET
DTSTART:20091025T010000
END:STANDARD
END:VTIMEZONE
BEGIN:VEVENT
DTSTART;TZID=Europe/Andorra:20091112T190000
DTEND;TZID=Europe/Andorra:20091112T190000
DTSTAMP:20260420T181448
CREATED:20200729T182531Z
LAST-MODIFIED:20200729T182531Z
UID:12883-1258052400-1258052400@octubre.cat
SUMMARY:El retorn de les nacions
DESCRIPTION:Dijous 12 de novembre\, a les 19.00h: “El retorn de les nacions”\, conferència a càrrec de Carlos Taibo (Universitat Autònoma de Madrid).   \n  \n  \n\n“El retorn de les nacions”\, a càrrec de Carlos Taibo\, historiador\, professor de la Universitat Autònoma de Barcelona.  Carlos Taibo és escriptor\, editor i professor titular de Ciència Política i de l’Administració en la Universitat Autònoma de Madrid. És autor d’una vintena de llibres en castellà\, en bona part relatius a les transicions en l’Europa central i oriental contemporània.
URL:https://octubre.cat/activitat/el-retorn-de-les-nacions/
LOCATION:No definit
CATEGORIES:Cicle '20 anys sense el Mur'
ATTACH;FMTTYPE=image/jpeg:https://octubre.cat/www/wp-content/uploads/2020/07/activitat915.jpg
END:VEVENT
END:VCALENDAR