BEGIN:VCALENDAR
VERSION:2.0
PRODID:-//Octubre Centre de Cultura Contemporània - ECPv5.1.6//NONSGML v1.0//EN
CALSCALE:GREGORIAN
METHOD:PUBLISH
X-WR-CALNAME:Octubre Centre de Cultura Contemporània
X-ORIGINAL-URL:https://octubre.cat
X-WR-CALDESC:Events for Octubre Centre de Cultura Contemporània
BEGIN:VTIMEZONE
TZID:Europe/Andorra
BEGIN:DAYLIGHT
TZOFFSETFROM:+0100
TZOFFSETTO:+0200
TZNAME:CEST
DTSTART:20100328T010000
END:DAYLIGHT
BEGIN:STANDARD
TZOFFSETFROM:+0200
TZOFFSETTO:+0100
TZNAME:CET
DTSTART:20101031T010000
END:STANDARD
END:VTIMEZONE
BEGIN:VEVENT
DTSTART;TZID=Europe/Andorra:20100312T193000
DTEND;TZID=Europe/Andorra:20100312T193000
DTSTAMP:20260420T181122
CREATED:20200729T164803Z
LAST-MODIFIED:20260104T183335Z
UID:8764-1268422200-1268422200@octubre.cat
SUMMARY:Joan Tardà. El repte republicà de la laïcitat
DESCRIPTION:Conferència “El repte republicà de la laïcitat” a càrrec de Joan Tardà. \nJoan Tardà (Cornellà\, 1953) és diputat i portaveu d’Esquerra Republicana al Parlament espanyol. És professor de secundària a l’IES Esteve Terradas. Militant del PSUC en la primera meitat dels 70\, d’on passaria a la formació política Nacionalistes d’Esquerra i al Comitè de Solidaritat amb els Patriotes Catalans\, creat a Cornellà a principis dels 80. En dissoldre’s NE s’afilià a Esquerra. El 1999 fou elegit regidor de l’Ajuntament de Cornellà\, encapçalant la candidatura d’Esquerra\, i el 2003 fou reelegit en el càrrec\, al qual renuncià el setembre de 2004. El març d’aquest any fou escollit diputat al Congrés. Tardà\, a més\, està vinculat a nombrosos moviments reivindicatius ciutadans i de dinamització cultural i és autor de diversos llibres de recerca històrica sobre la comarca del Baix Llobregat i la ciutat de Cornellà \n—\nOrganitza: Esquerra Republicana del País Valencià.
URL:https://octubre.cat/activitat/el-repte-republica-de-la-laicitat/
LOCATION:No definit
CATEGORIES:Tribuna
ATTACH;FMTTYPE=image/jpeg:https://octubre.cat/www/wp-content/uploads/2020/07/activitat1110.jpg
END:VEVENT
END:VCALENDAR