BEGIN:VCALENDAR
VERSION:2.0
PRODID:-//Octubre Centre de Cultura Contemporània - ECPv5.1.6//NONSGML v1.0//EN
CALSCALE:GREGORIAN
METHOD:PUBLISH
X-WR-CALNAME:Octubre Centre de Cultura Contemporània
X-ORIGINAL-URL:https://octubre.cat
X-WR-CALDESC:Events for Octubre Centre de Cultura Contemporània
BEGIN:VTIMEZONE
TZID:Europe/Andorra
BEGIN:DAYLIGHT
TZOFFSETFROM:+0100
TZOFFSETTO:+0200
TZNAME:CEST
DTSTART:20090329T010000
END:DAYLIGHT
BEGIN:STANDARD
TZOFFSETFROM:+0200
TZOFFSETTO:+0100
TZNAME:CET
DTSTART:20091025T010000
END:STANDARD
END:VTIMEZONE
BEGIN:VEVENT
DTSTART;TZID=Europe/Andorra:20091114T190000
DTEND;TZID=Europe/Andorra:20091114T190000
DTSTAMP:20260420T142318
CREATED:20200729T164620Z
LAST-MODIFIED:20260104T170722Z
UID:8662-1258225200-1258225200@octubre.cat
SUMMARY:Jon Sistiaga. El reporter tot terreny: entre el conflicte ètic i el bèl·lic
DESCRIPTION:“El reporter tot terreny: entre el conflicte ètic i el bèl·lic”\, conferència a càrrec de Jon Sistiaga\, periodista. \nJon Sistiaga (Irun\, Guipúscoa\, 1967) és un dels reporters d’investigació més coneguts i valorats per la seua professionalitat i la qualitat del seu treball. Va estudiar periodisme en la Universitat del País Basc\, on també va cursar estudis de doctorat en Relacions Internacionals. Com a corresponsal\, ha estat en els conflictes de Rwanda\, Irlanda del Nord\, Colòmbia\, Orient Pròxim\, Kosovo\, l’Afganistan\, Tailàndia\, Mèxic\, Corea del Nord i Guinea Equatorial. \nEll i el seu càmera de Telecinco\, Bernabé Domínguez\, foren capturats per les tropes sèrbies el 2 d’abril de 1999 quan es trobaven en la frontera de Kosovo amb Macedònia\, mentre enregistraven l’arribada d’un tren carregat de refugiats. Serien alliberats cinc dies després il·lesos. També va cobrir per a aquesta mateixa cadena la guerra d’Iraq\, en aquesta ocasió amb José Couso. Couso moriria a l’Hotel Palestina com a resultat de l’atac indiscriminat dels tancs nordamericans. \nFruit d’aquests fets que el van marcar profundament\, és el seu llibre Ninguna guerra se parece a otra (Plaza & Janés\, 2004)\, on narra la seua estada a l’Iraq\, des dels primers bombardeigs fins al moment de la mort del seu càmera. A més\, descriu amb mestria com s’aconsegueix informació enmig d’una guerra\, com es pot esquivar la censura\, com es viu sota un règim dictatorial com el de Saddam i\, en fi\, com superar la por infinita a enfrontar-se a la mort. \nSistiaga ha estat guardonat amb els premis Ortega y Gasset 2003 i Reporteros Sin Fronteras 1999. Actualment treballa per al Grup PRISA en programes de Cuatro i de la Cadena SER. \n—\nActe realitzat en col·laboració amb l’Ajuntament de l’Eliana
URL:https://octubre.cat/activitat/el-reporter-tot-terreny-entre-el-conflicte-etic-i-el-bellic/
LOCATION:No definit
CATEGORIES:Tribuna
ATTACH;FMTTYPE=image/png:https://octubre.cat/www/wp-content/uploads/2020/07/activitat1005.png
END:VEVENT
END:VCALENDAR