BEGIN:VCALENDAR
VERSION:2.0
PRODID:-//Octubre Centre de Cultura Contemporània - ECPv5.1.6//NONSGML v1.0//EN
CALSCALE:GREGORIAN
METHOD:PUBLISH
X-WR-CALNAME:Octubre Centre de Cultura Contemporània
X-ORIGINAL-URL:https://octubre.cat
X-WR-CALDESC:Events for Octubre Centre de Cultura Contemporània
BEGIN:VTIMEZONE
TZID:Europe/Andorra
BEGIN:DAYLIGHT
TZOFFSETFROM:+0100
TZOFFSETTO:+0200
TZNAME:CEST
DTSTART:20170326T010000
END:DAYLIGHT
BEGIN:STANDARD
TZOFFSETFROM:+0200
TZOFFSETTO:+0100
TZNAME:CET
DTSTART:20171029T010000
END:STANDARD
END:VTIMEZONE
BEGIN:VEVENT
DTSTART;TZID=Europe/Andorra:20170322T190000
DTEND;TZID=Europe/Andorra:20170322T190000
DTSTAMP:20260420T172114
CREATED:20200729T172438Z
LAST-MODIFIED:20200729T185754Z
UID:11051-1490209200-1490209200@octubre.cat
SUMMARY:'El quinto jinete'\, de Rosana Pastor i Enrique Viciano
DESCRIPTION:Dimecres 22 de març a les 19.00h. Projecció inclosa dins del  Cicle de Cinema Valencià 2017. Entrada lliure.  \n  \n  \n\n Vicent Blasco Ibáñez escriu la novel·la Los cuatro jinetes del apocalipsis durant la I Guerra Mundial. Mentre seguim Blasco Ibáñez en el seu estudi de París\, veiem com escriu la novel·la\, el seu estat d’ànim\, les disputes amb el seu editor o la visita que fa al front del Marne. D’altra banda\, una realitzadora de televisió s’ha proposat aclarir l’entorn que envolta l’escriptor de cara a un encàrrec per a la commemoració dels inicis de la Guerra i\, per fer-ho\, ha de documentar-se\, investigar els orígens i l’abast de la novel·la\, realitzar entrevistes a estudiosos i especialistes…  Direcció: Rosana Pastor i Enrique Viciano (2014) Repartiment: Juli Mira\, Mireia Pérez Producció: Buenpaso Films Durada: 60’  — Cicle de cinema valencià 2017 organitzat amb la col·laboració de Musamovies. Coordinació del cicle: Antonio Lloréns Entrada lliure
URL:https://octubre.cat/activitat/el-quinto-jinete-de-rosana-pastor-i-enrique-viciano/
LOCATION:Sala d’actes
CATEGORIES:Cicle de cinema valencià 2017
ATTACH;FMTTYPE=image/jpeg:https://octubre.cat/www/wp-content/uploads/2020/07/activitat2786.jpg
END:VEVENT
END:VCALENDAR