BEGIN:VCALENDAR
VERSION:2.0
PRODID:-//Octubre Centre de Cultura Contemporània - ECPv5.1.6//NONSGML v1.0//EN
CALSCALE:GREGORIAN
METHOD:PUBLISH
X-WR-CALNAME:Octubre Centre de Cultura Contemporània
X-ORIGINAL-URL:https://octubre.cat
X-WR-CALDESC:Events for Octubre Centre de Cultura Contemporània
BEGIN:VTIMEZONE
TZID:Europe/Andorra
BEGIN:DAYLIGHT
TZOFFSETFROM:+0100
TZOFFSETTO:+0200
TZNAME:CEST
DTSTART:20080330T010000
END:DAYLIGHT
BEGIN:STANDARD
TZOFFSETFROM:+0200
TZOFFSETTO:+0100
TZNAME:CET
DTSTART:20081026T010000
END:STANDARD
END:VTIMEZONE
BEGIN:VEVENT
DTSTART;TZID=Europe/Andorra:20080921T220000
DTEND;TZID=Europe/Andorra:20080921T220000
DTSTAMP:20260421T093128
CREATED:20200729T181948Z
LAST-MODIFIED:20200730T035817Z
UID:12628-1222034400-1222034400@octubre.cat
SUMMARY:El prado de las estrellas (de Mario Camus)
DESCRIPTION:(Espanya\, 2007\, 85 min)  Un matí\, Alfonso surt a recollir caragols al “prado de las estrellas” i es troba amb Martin\, un jove que apareix entre la boira amb la seua bicicleta. A partir d’aquella matinada i empés pels somnis del xic\, prompte s’afermarà l’amistat entre el vell mestre i la jove promesa ciclista. Alfonso\, recolzat pels seus amics\, farà de Martin (que no té equip ni patrocinadors) un gran campió i\, el que és més important\, una gran persona.
URL:https://octubre.cat/activitat/el-prado-de-las-estrellas-de-mario-camus/
LOCATION:No definit
CATEGORIES:BiCine - Festival de Cinema per la Mobilitat Sostenible
ATTACH;FMTTYPE=image/jpeg:https://octubre.cat/www/wp-content/uploads/2020/07/activitat650.jpg
END:VEVENT
END:VCALENDAR