BEGIN:VCALENDAR
VERSION:2.0
PRODID:-//Octubre Centre de Cultura Contemporània - ECPv5.1.6//NONSGML v1.0//EN
CALSCALE:GREGORIAN
METHOD:PUBLISH
X-WR-CALNAME:Octubre Centre de Cultura Contemporània
X-ORIGINAL-URL:https://octubre.cat
X-WR-CALDESC:Events for Octubre Centre de Cultura Contemporània
BEGIN:VTIMEZONE
TZID:Europe/Andorra
BEGIN:DAYLIGHT
TZOFFSETFROM:+0100
TZOFFSETTO:+0200
TZNAME:CEST
DTSTART:20080330T010000
END:DAYLIGHT
BEGIN:STANDARD
TZOFFSETFROM:+0200
TZOFFSETTO:+0100
TZNAME:CET
DTSTART:20081026T010000
END:STANDARD
END:VTIMEZONE
BEGIN:VEVENT
DTSTART;TZID=Europe/Andorra:20080410T200000
DTEND;TZID=Europe/Andorra:20080410T200000
DTSTAMP:20260420T205857
CREATED:20200729T181808Z
LAST-MODIFIED:20200730T035658Z
UID:12526-1207857600-1207857600@octubre.cat
SUMMARY:El Pont d'Arcalís
DESCRIPTION:Dijous 9\, 20.00h. El Pont d’Arcalís des dels seus inicis l’any 1991 continua en la seva trajectòria de divulgar la música i la cançó de tradició oral del Pirineu. El seu treball es nodreix bàsicament de la recerca que ha portat a terme durant més de trenta anys un dels seus components\, l’ Artur Blasco\, donada a conèixer en l’obra A peu pels camins del cançoner i en la fonoteca de música d’acordió diatònic i violí dels vells acordionistes i violinistes de les contrades de muntanya.    \n  \n  \n\nEl Pont d’Arcalís des dels seus inicis l’any 1991 continua en la seva trajectòria de divulgar la música i la cançó de tradició oral del Pirineu. El seu treball es nodreix bàsicament de la recerca que ha portat a terme durant més de trenta anys un dels seus components\, l’ Artur Blasco\, donada a conèixer en l’obra A peu pels camins del cançoner i en la fonoteca de música d’acordió diatònic i violí dels vells acordionistes i violinistes de les contrades de muntanya. Jordi Fàbregas\, també component d’El Pont d’Arcalís\, és l’autor dels arranjaments dels temes de repertori de ball-concert així com dels que formen part de l’edició discogràfica.  Artur Blasco: acordió diatònic\, rebec\, veu i percussions Jordi Macaya: viola\, tenora i veu Jordi Fàbregas: gralla\, guitarra i veu Isidre Pelàez: tarota\, flauta\, flautí i simbomba Quim Soler: bateria i percussions
URL:https://octubre.cat/activitat/el-pont-darcalis/
LOCATION:No definit
CATEGORIES:Cicle de música pop
ATTACH;FMTTYPE=image/gif:https://octubre.cat/www/wp-content/uploads/2020/07/activitat539.gif
END:VEVENT
END:VCALENDAR