BEGIN:VCALENDAR
VERSION:2.0
PRODID:-//Octubre Centre de Cultura Contemporània - ECPv5.1.6//NONSGML v1.0//EN
CALSCALE:GREGORIAN
METHOD:PUBLISH
X-WR-CALNAME:Octubre Centre de Cultura Contemporània
X-ORIGINAL-URL:https://octubre.cat
X-WR-CALDESC:Events for Octubre Centre de Cultura Contemporània
BEGIN:VTIMEZONE
TZID:Europe/Andorra
BEGIN:DAYLIGHT
TZOFFSETFROM:+0100
TZOFFSETTO:+0200
TZNAME:CEST
DTSTART:20110327T010000
END:DAYLIGHT
BEGIN:STANDARD
TZOFFSETFROM:+0200
TZOFFSETTO:+0100
TZNAME:CET
DTSTART:20111030T010000
END:STANDARD
END:VTIMEZONE
BEGIN:VEVENT
DTSTART;TZID=Europe/Andorra:20110203T193000
DTEND;TZID=Europe/Andorra:20110203T193000
DTSTAMP:20260420T180901
CREATED:20200729T165414Z
LAST-MODIFIED:20200730T042723Z
UID:9156-1296761400-1296761400@octubre.cat
SUMMARY:El poder de la desinformació
DESCRIPTION:Dijous 3 de febrer\, a les 19.30h: “El poder de la desinformació”\, conferència a càrrec de Pascual Serrano (periodista).   \n  \n  \n\nEl poder de la desinformació Conferència a càrrec de Pascual Serrano.   Pascual Serrano (València\, 1964) és periodista. Va ser fundador i cap de redacció de la revista Voces\, que editava Izquierda Unida. Els seus treballs s’han desenvolupat arran dels seus viatges per Amèrica llatina i l’Orient mitjà. El 1996 va fundar amb un grup de periodistes la publicació electrònica Rebelión\, que funciona com a diari alternatiu en Internet. A més\, és membre fundador de la Xarxa d’Intel·lectuals i Artistes en Defensa de la Humanitat\, creada en Mèxic l’any 2004. Col·labora habitualment amb una desena de publicacions espanyoles i llatinoamericanes sobre temes de comunicació i política internacional\, com ara Público\, Le Monde Diplomatiuque\, Diagonal o La Jiribilla. És autor de diversos llibres\, com Perlas. Patrañas\, disparates y trapacerías en los medios de comunicación (El Viejo Topo\, 2006)\, amb la seua seqüela\, o Medios violentos. Palabras e imágenes para el odio y la guerra (El Viejo Topo\, 2008). El seu treball més recent és El periodismo es noticia. Tendencias sobre comunicación en el siglo XXI (Icaria\, 2010).   Organitza: Fundació CEPS
URL:https://octubre.cat/activitat/el-poder-de-la-desinformacio/
LOCATION:No definit
CATEGORIES:Conferències i congressos
ATTACH;FMTTYPE=image/jpeg:https://octubre.cat/www/wp-content/uploads/2020/07/activitat1380.jpg
END:VEVENT
END:VCALENDAR