BEGIN:VCALENDAR
VERSION:2.0
PRODID:-//Octubre Centre de Cultura Contemporània - ECPv5.1.6//NONSGML v1.0//EN
CALSCALE:GREGORIAN
METHOD:PUBLISH
X-WR-CALNAME:Octubre Centre de Cultura Contemporània
X-ORIGINAL-URL:https://octubre.cat
X-WR-CALDESC:Events for Octubre Centre de Cultura Contemporània
BEGIN:VTIMEZONE
TZID:Europe/Andorra
BEGIN:DAYLIGHT
TZOFFSETFROM:+0100
TZOFFSETTO:+0200
TZNAME:CEST
DTSTART:20100328T010000
END:DAYLIGHT
BEGIN:STANDARD
TZOFFSETFROM:+0200
TZOFFSETTO:+0100
TZNAME:CET
DTSTART:20101031T010000
END:STANDARD
END:VTIMEZONE
BEGIN:VEVENT
DTSTART;TZID=Europe/Andorra:20100226T200000
DTEND;TZID=Europe/Andorra:20100226T200000
DTSTAMP:20260420T191949
CREATED:20200729T164731Z
LAST-MODIFIED:20200729T182805Z
UID:8730-1267214400-1267214400@octubre.cat
SUMMARY:El petit de cal Eril
DESCRIPTION:Divendres 26 de febrer\, a les 20.00h: El petit de cal Eril (Lleida).   \n  \n  \n\nEls agrada la lletra escrita a mà\, l’artesania i el minimalisme de traços infantils. El grup de Joan Pons\, amb epicentre a Guissona (la Segarra)\, practica una música de aparença pop\, però amb ritmes d’arrel popular\, vinyetes narratives extretes de la tradició oral i un univers que al·ludeix a un món aliè a l’imaginari urbà (naturalesa\, innocència\, crònica negra rural). En la seua música s’hi oposen formes senzilles i nobles i un fons borrós. La seua música opera en la mateixa freqüència que Gorky’s Zygotic Mynci o The Flaming Lips\, però treballant amb materials del seu substrat cultural: percussions tradicionals\, guitarra clàssica\, interferències electròniques i un repertori somiador.   Aquest concert forma part del festival Tirant de Cançó
URL:https://octubre.cat/activitat/el-petit-de-cal-eril/
LOCATION:No definit
CATEGORIES:Cicle de música pop
ATTACH;FMTTYPE=image/jpeg:https://octubre.cat/www/wp-content/uploads/2020/07/activitat1075.jpg
END:VEVENT
END:VCALENDAR