BEGIN:VCALENDAR
VERSION:2.0
PRODID:-//Octubre Centre de Cultura Contemporània - ECPv5.1.6//NONSGML v1.0//EN
CALSCALE:GREGORIAN
METHOD:PUBLISH
X-WR-CALNAME:Octubre Centre de Cultura Contemporània
X-ORIGINAL-URL:https://octubre.cat
X-WR-CALDESC:Events for Octubre Centre de Cultura Contemporània
BEGIN:VTIMEZONE
TZID:Europe/Andorra
BEGIN:DAYLIGHT
TZOFFSETFROM:+0100
TZOFFSETTO:+0200
TZNAME:CEST
DTSTART:20190331T010000
END:DAYLIGHT
BEGIN:STANDARD
TZOFFSETFROM:+0200
TZOFFSETTO:+0100
TZNAME:CET
DTSTART:20191027T010000
END:STANDARD
END:VTIMEZONE
BEGIN:VEVENT
DTSTART;TZID=Europe/Andorra:20191107T183000
DTEND;TZID=Europe/Andorra:20191107T183000
DTSTAMP:20260421T180816
CREATED:20200729T173550Z
LAST-MODIFIED:20200729T191245Z
UID:11555-1573151400-1573151400@octubre.cat
SUMMARY:"El periple"\, de  Mario Pons Muria
DESCRIPTION:Dijous 7 de novembre a les 18.30h. Projecció inclosa en el Festival de Cinema Ciutadà Compromès organitzat per ACICOM amb la col·laboració d’Acció Cultural del País Valencià. Taquilla inversa.	 \n  \n  \n\n 	 Què tenen en comú el director de màrqueting d’una multinacional\, un vell torrer de fars i el líder d’un camp de refugiats sirians a Grècia? La vida en aïllament\, el bloqueig de l’individu i els Estats a la Mediterrània. Un far és un edifici públic de l’Estat de caràcter de salvament universal on el torrer té una missió clara\, encendre la llum per tot tipus de navegants. A través de la mirada dels refugiats de la Guerra Civil de Síria\,“El Periple” reflecteix la memòria més intima de l’exili republicà del 1939\, fixant el rumb cap a algunes respostes a la crisi moral i humanitària més profunda viscuda a Europa des de la II Guerra Mundial.  Direcció: Mario Pons Muria (2018) Guió\, so i producció executiva: Mario Pons Múria Música original: Los Sirgadors Direcció de fotografia: Mario Pons Múria \, Alex Garcia Garcia Muntatge: Laura Herrero Garvín Repartiment: Miquel Bada Producció: Segula Films Durada: 73’  — Projecció inclosa en el Festival de Cinema Ciutadà Compromès (FCCC) organitzat per Acicom amb la col·laboració d’Acció Cultural del País Valencià Taquilla inversa.
URL:https://octubre.cat/activitat/el-periple-de-mario-pons-muria/
LOCATION:Sala d’actes
CATEGORIES:Cinema
ATTACH;FMTTYPE=image/jpeg:https://octubre.cat/www/wp-content/uploads/2020/07/activitat3364.jpg
END:VEVENT
END:VCALENDAR