BEGIN:VCALENDAR
VERSION:2.0
PRODID:-//Octubre Centre de Cultura Contemporània - ECPv5.1.6//NONSGML v1.0//EN
CALSCALE:GREGORIAN
METHOD:PUBLISH
X-WR-CALNAME:Octubre Centre de Cultura Contemporània
X-ORIGINAL-URL:https://octubre.cat
X-WR-CALDESC:Events for Octubre Centre de Cultura Contemporània
BEGIN:VTIMEZONE
TZID:Europe/Andorra
BEGIN:DAYLIGHT
TZOFFSETFROM:+0100
TZOFFSETTO:+0200
TZNAME:CEST
DTSTART:20170326T010000
END:DAYLIGHT
BEGIN:STANDARD
TZOFFSETFROM:+0200
TZOFFSETTO:+0100
TZNAME:CET
DTSTART:20171029T010000
END:STANDARD
END:VTIMEZONE
BEGIN:VEVENT
DTSTART;TZID=Europe/Andorra:20170208T190000
DTEND;TZID=Europe/Andorra:20170208T190000
DTSTAMP:20260421T002443
CREATED:20200729T172401Z
LAST-MODIFIED:20200729T185737Z
UID:11009-1486580400-1486580400@octubre.cat
SUMMARY:'El paseante'\, de Giovanna Ribes
DESCRIPTION:Dimecres 8 de febrer a les 19.00h. Amb la directora i Antonio Lloréns\, protagonista del documental. Entrada lliure.  \n  \n  \n\n Presentació a càrrec de la directora i el protagonista.  Una mirada sobre el món fascinant dels festivals\, de la mà del crític de cinema valencià Antonio Lloréns.  Un comptador de passos comença a córrer. Veiem Antonio Lloréns entrar en una sala de cinema\, una dels milers que l’han acompanyat en la vida. Aquest recorregut ens mostra un món que sempre ha semblat tan llunyà i fascinant: el dels festivals de cinema on Lloréns té el seu hàbitat. Dotze móns\, cada any. Una mirada en primer pla de la catifa roja i\, alhora\, una mirada íntima d’Antonio Lloréns\, amb la seua maleta petita plena de somnis\, també de cinema.  Guió i direcció: Giovanna Ribes (2016) Producció: Giovanna Ribes i Bárbara Atienza (Tarannà Films) Direcció de producció: Emilio Oviedo Postproducció de so: Xavi Mulet Música original: Ferdi Ribes Renshaw  Entrada lliure
URL:https://octubre.cat/activitat/el-paseante-de-giovanna-ribes/
LOCATION:Sala d’actes
CATEGORIES:Cinema
ATTACH;FMTTYPE=image/jpeg:https://octubre.cat/www/wp-content/uploads/2020/07/activitat2766.jpg
END:VEVENT
END:VCALENDAR