BEGIN:VCALENDAR
VERSION:2.0
PRODID:-//Octubre Centre de Cultura Contemporània - ECPv5.1.6//NONSGML v1.0//EN
CALSCALE:GREGORIAN
METHOD:PUBLISH
X-WR-CALNAME:Octubre Centre de Cultura Contemporània
X-ORIGINAL-URL:https://octubre.cat
X-WR-CALDESC:Events for Octubre Centre de Cultura Contemporània
BEGIN:VTIMEZONE
TZID:Europe/Andorra
BEGIN:DAYLIGHT
TZOFFSETFROM:+0100
TZOFFSETTO:+0200
TZNAME:CEST
DTSTART:20150329T010000
END:DAYLIGHT
BEGIN:STANDARD
TZOFFSETFROM:+0200
TZOFFSETTO:+0100
TZNAME:CET
DTSTART:20151025T010000
END:STANDARD
END:VTIMEZONE
BEGIN:VEVENT
DTSTART;TZID=Europe/Andorra:20150114T190000
DTEND;TZID=Europe/Andorra:20150114T190000
DTSTAMP:20260422T032534
CREATED:20200729T170839Z
LAST-MODIFIED:20200902T162703Z
UID:10027-1421262000-1421262000@octubre.cat
SUMMARY:'El país dels cecs'\, de Sergi Tarin
DESCRIPTION:  \n\nDimecres 14 de gener a les 19.00h. Projecció inaugural del Cicle de Cinema Social. Una anàlisi de la figura de Carlos Fabra\, expresident de la Diputació de Castelló\, empresonat recentment. Entrada lliure \n \n\nEl país dels cecs és un documental de 76 minuts de duració\, on ens aproximem\, per intentar explicar-lo\, al cas del president de la Diputació de Castelló\, penúltim representant d’una nissaga de polítics ben coneguda i ben polèmica. Els testimonis dels contraris i dels més aferrissats partidaris ajuden a entendre qui és Carlos Fabra i per què ha arribat on ha arribat. L’empresonament d’aquest personatge el passat 1 de desembre\, després d’un procés judicial de més d’onze anys\, posa de la màxima actualitat aquesta producció. Guió i direcció: Sergi Tarín (2006) Imatge\, edició i postproducció: Vicent Peris Producció: Info TV Durada: 76 minuts Entrada lliure Organitzat amb la col·laboració d’El Cine Social Coordinació del cicle: Antonio Lloréns
URL:https://octubre.cat/activitat/el-pais-dels-cecs-de-sergi-tarin/
LOCATION:Sala d’actes
CATEGORIES:Cicle de cinema social
ATTACH;FMTTYPE=image/jpeg:https://octubre.cat/www/wp-content/uploads/2020/07/activitat2225.jpg
END:VEVENT
END:VCALENDAR