BEGIN:VCALENDAR
VERSION:2.0
PRODID:-//Octubre Centre de Cultura Contemporània - ECPv5.1.6//NONSGML v1.0//EN
CALSCALE:GREGORIAN
METHOD:PUBLISH
X-WR-CALNAME:Octubre Centre de Cultura Contemporània
X-ORIGINAL-URL:https://octubre.cat
X-WR-CALDESC:Events for Octubre Centre de Cultura Contemporània
BEGIN:VTIMEZONE
TZID:Europe/Andorra
BEGIN:DAYLIGHT
TZOFFSETFROM:+0100
TZOFFSETTO:+0200
TZNAME:CEST
DTSTART:20100328T010000
END:DAYLIGHT
BEGIN:STANDARD
TZOFFSETFROM:+0200
TZOFFSETTO:+0100
TZNAME:CET
DTSTART:20101031T010000
END:STANDARD
END:VTIMEZONE
BEGIN:VEVENT
DTSTART;TZID=Europe/Andorra:20100311T193000
DTEND;TZID=Europe/Andorra:20100311T193000
DTSTAMP:20260420T175431
CREATED:20200729T164758Z
LAST-MODIFIED:20200729T182830Z
UID:8759-1268335800-1268335800@octubre.cat
SUMMARY:El nou Pla de Conca del Xúquer
DESCRIPTION:Dijous 11 de març\, a les 19.30h: Taula rodona “El nou Pla de Conca del Xúquer i la directiva marc de l’aigua”.  \n  \n  \n\nEl nou Pla de Conca del Xúquer i la directiva marc de l’aigua  Taula rodona amb la participació de: Juan José Moragues\, president de la Confederació Hidrogràfica del Xúquer.  José Pasqual Fortea\, president de la Comunitat de Regants de Sueca.  Paco Sanz\, portaveu de Xúquer Viu.   Presenta i modera: William Colom\, responsable d’aigües d’Acció Ecologista-Agró.
URL:https://octubre.cat/activitat/el-nou-pla-de-conca-del-xuquer/
LOCATION:No definit
CATEGORIES:Els rius, molt més que aigua
ATTACH;FMTTYPE=image/jpeg:https://octubre.cat/www/wp-content/uploads/2020/07/activitat1105.jpg
END:VEVENT
END:VCALENDAR