BEGIN:VCALENDAR
VERSION:2.0
PRODID:-//Octubre Centre de Cultura Contemporània - ECPv5.1.6//NONSGML v1.0//EN
CALSCALE:GREGORIAN
METHOD:PUBLISH
X-WR-CALNAME:Octubre Centre de Cultura Contemporània
X-ORIGINAL-URL:https://octubre.cat
X-WR-CALDESC:Events for Octubre Centre de Cultura Contemporània
BEGIN:VTIMEZONE
TZID:Europe/Andorra
BEGIN:DAYLIGHT
TZOFFSETFROM:+0100
TZOFFSETTO:+0200
TZNAME:CEST
DTSTART:20080330T010000
END:DAYLIGHT
BEGIN:STANDARD
TZOFFSETFROM:+0200
TZOFFSETTO:+0100
TZNAME:CET
DTSTART:20081026T010000
END:STANDARD
END:VTIMEZONE
BEGIN:VEVENT
DTSTART;TZID=Europe/Andorra:20080312T190000
DTEND;TZID=Europe/Andorra:20080312T190000
DTSTAMP:20260420T182010
CREATED:20200729T181755Z
LAST-MODIFIED:20200730T035648Z
UID:12515-1205348400-1205348400@octubre.cat
SUMMARY:El nostre genoma ens explica la nostra història: el projecte Genographic
DESCRIPTION:Conferència a càrrec de David Comas.  David Comas és doctor en Biologia per la Universitat de Barcelona. Ha realitzat recerca en diferents institucions estrangeres: Ludwig Maximilians Universität (Munic\, Alemanya)\, Royal Free Hospital (Londres\, Anglaterra)\, Universitat de Hèlsinki (Hèlsinki\, Finlàndia). Actualment és professor agregat a la Unitat de Biologia Evolutiva a la Universitat Pompeu Fabra. Les seues línies de recerca inclouen la genètica de poblacions humanes\, la diversitat genètica i susceptibilitat a malalties i l’evolució genòmica.  Aquesta és la primera xarrada  de Les exploracions inacabades\, un cicle de conferències de l’Espai Ciència amb motiu de l’Any Internacional de la Terra.
URL:https://octubre.cat/activitat/el-nostre-genoma-ens-explica-la-nostra-historia-el-projecte-genographic/
LOCATION:No definit
CATEGORIES:Espai Ciència
ATTACH;FMTTYPE=image/jpeg:https://octubre.cat/www/wp-content/uploads/2020/07/espaiciencia1.jpg
END:VEVENT
END:VCALENDAR